BEGIN:VCALENDAR
VERSION:2.0
PRODID:-//Bayerischer Jagdverband - ECPv6.15.13//NONSGML v1.0//EN
CALSCALE:GREGORIAN
METHOD:PUBLISH
X-WR-CALNAME:Bayerischer Jagdverband
X-ORIGINAL-URL:https://www.bjv-ffb.de
X-WR-CALDESC:Veranstaltungen für Bayerischer Jagdverband
REFRESH-INTERVAL;VALUE=DURATION:PT1H
X-Robots-Tag:noindex
X-PUBLISHED-TTL:PT1H
BEGIN:VTIMEZONE
TZID:Europe/Berlin
BEGIN:DAYLIGHT
TZOFFSETFROM:+0100
TZOFFSETTO:+0200
TZNAME:CEST
DTSTART:20250330T010000
END:DAYLIGHT
BEGIN:STANDARD
TZOFFSETFROM:+0200
TZOFFSETTO:+0100
TZNAME:CET
DTSTART:20251026T010000
END:STANDARD
BEGIN:DAYLIGHT
TZOFFSETFROM:+0100
TZOFFSETTO:+0200
TZNAME:CEST
DTSTART:20260329T010000
END:DAYLIGHT
BEGIN:STANDARD
TZOFFSETFROM:+0200
TZOFFSETTO:+0100
TZNAME:CET
DTSTART:20261025T010000
END:STANDARD
BEGIN:DAYLIGHT
TZOFFSETFROM:+0100
TZOFFSETTO:+0200
TZNAME:CEST
DTSTART:20270328T010000
END:DAYLIGHT
BEGIN:STANDARD
TZOFFSETFROM:+0200
TZOFFSETTO:+0100
TZNAME:CET
DTSTART:20271031T010000
END:STANDARD
END:VTIMEZONE
BEGIN:VEVENT
DTSTART;TZID=Europe/Berlin:20260421T180000
DTEND;TZID=Europe/Berlin:20260421T200000
DTSTAMP:20260420T123830
CREATED:20260124T161123Z
LAST-MODIFIED:20260124T161220Z
UID:8222-1776794400-1776801600@www.bjv-ffb.de
SUMMARY:Jagdhundekurs Ausbildungstag Schöngeising
DESCRIPTION:Apport vom Boden
URL:https://www.bjv-ffb.de/kalender/jagdhundekurs-ausbildungstag-schoengeising-5/
END:VEVENT
BEGIN:VEVENT
DTSTART;TZID=Europe/Berlin:20260425T080000
DTEND;TZID=Europe/Berlin:20260428T170000
DTSTAMP:20260420T123830
CREATED:20260221T162929Z
LAST-MODIFIED:20260221T162929Z
UID:8304-1777104000-1777395600@www.bjv-ffb.de
SUMMARY:24. bis 25. April: Landesjägertag in Straubing
DESCRIPTION:
URL:https://www.bjv-ffb.de/kalender/24-bis-25-april-landesjaegertag-in-straubing/
END:VEVENT
BEGIN:VEVENT
DTSTART;TZID=Europe/Berlin:20260428T180000
DTEND;TZID=Europe/Berlin:20260428T200000
DTSTAMP:20260420T123830
CREATED:20260124T161244Z
LAST-MODIFIED:20260124T161311Z
UID:8224-1777399200-1777406400@www.bjv-ffb.de
SUMMARY:Jagdhundekurs Ausbildungstag Schöngeising
DESCRIPTION:Apport vom Boden
URL:https://www.bjv-ffb.de/kalender/jagdhundekurs-ausbildungstag-schoengeising-6/
END:VEVENT
END:VCALENDAR