BEGIN:VCALENDAR
VERSION:2.0
PRODID:-//Bayerischer Jagdverband - ECPv6.15.20//NONSGML v1.0//EN
CALSCALE:GREGORIAN
METHOD:PUBLISH
X-WR-CALNAME:Bayerischer Jagdverband
X-ORIGINAL-URL:https://www.bjv-ffb.de
X-WR-CALDESC:Veranstaltungen für Bayerischer Jagdverband
REFRESH-INTERVAL;VALUE=DURATION:PT1H
X-Robots-Tag:noindex
X-PUBLISHED-TTL:PT1H
BEGIN:VTIMEZONE
TZID:Europe/Berlin
BEGIN:DAYLIGHT
TZOFFSETFROM:+0100
TZOFFSETTO:+0200
TZNAME:CEST
DTSTART:20180325T010000
END:DAYLIGHT
BEGIN:STANDARD
TZOFFSETFROM:+0200
TZOFFSETTO:+0100
TZNAME:CET
DTSTART:20181028T010000
END:STANDARD
BEGIN:DAYLIGHT
TZOFFSETFROM:+0100
TZOFFSETTO:+0200
TZNAME:CEST
DTSTART:20190331T010000
END:DAYLIGHT
BEGIN:STANDARD
TZOFFSETFROM:+0200
TZOFFSETTO:+0100
TZNAME:CET
DTSTART:20191027T010000
END:STANDARD
BEGIN:DAYLIGHT
TZOFFSETFROM:+0100
TZOFFSETTO:+0200
TZNAME:CEST
DTSTART:20200329T010000
END:DAYLIGHT
BEGIN:STANDARD
TZOFFSETFROM:+0200
TZOFFSETTO:+0100
TZNAME:CET
DTSTART:20201025T010000
END:STANDARD
END:VTIMEZONE
BEGIN:VEVENT
DTSTART;TZID=Europe/Berlin:20190510T220000
DTEND;TZID=Europe/Berlin:20190511T000000
DTSTAMP:20260425T020710
CREATED:20190308T061930Z
LAST-MODIFIED:20190311T121157Z
UID:1409-1557525600-1557532800@www.bjv-ffb.de
SUMMARY:Bläserserenade
DESCRIPTION:  \nAm Freitag\, den 10. Mai 2019\, findet wieder eine Serenade mit den Jagdhornbläsern der BJV Kreisgruppe Fürstenfeldbruck statt. \nWie schon im vergangenen Jahr spielen wir an der Waldkapelle zwischen Egenhofen und Dirlesried. (siehe Plan\, „Muttergottes“) \nVor der Marien-Kapelle sind Bänke und Tische aufgebaut. Ab 19:30 Uhr gibt es dort Getränke. \nUm 20 Uhr beginnen die Jagdhörner direkt vor der Kapelle zu spielen. \n 
URL:https://www.bjv-ffb.de/kalender/blaeserserenade/
LOCATION:waldkapelle dirlesried
END:VEVENT
END:VCALENDAR