BEGIN:VCALENDAR
VERSION:2.0
PRODID:-//Bayerischer Jagdverband - ECPv6.15.20//NONSGML v1.0//EN
CALSCALE:GREGORIAN
METHOD:PUBLISH
X-WR-CALNAME:Bayerischer Jagdverband
X-ORIGINAL-URL:https://www.bjv-ffb.de
X-WR-CALDESC:Veranstaltungen für Bayerischer Jagdverband
REFRESH-INTERVAL;VALUE=DURATION:PT1H
X-Robots-Tag:noindex
X-PUBLISHED-TTL:PT1H
BEGIN:VTIMEZONE
TZID:Europe/Berlin
BEGIN:DAYLIGHT
TZOFFSETFROM:+0100
TZOFFSETTO:+0200
TZNAME:CEST
DTSTART:20190331T010000
END:DAYLIGHT
BEGIN:STANDARD
TZOFFSETFROM:+0200
TZOFFSETTO:+0100
TZNAME:CET
DTSTART:20191027T010000
END:STANDARD
BEGIN:DAYLIGHT
TZOFFSETFROM:+0100
TZOFFSETTO:+0200
TZNAME:CEST
DTSTART:20200329T010000
END:DAYLIGHT
BEGIN:STANDARD
TZOFFSETFROM:+0200
TZOFFSETTO:+0100
TZNAME:CET
DTSTART:20201025T010000
END:STANDARD
BEGIN:DAYLIGHT
TZOFFSETFROM:+0100
TZOFFSETTO:+0200
TZNAME:CEST
DTSTART:20210328T010000
END:DAYLIGHT
BEGIN:STANDARD
TZOFFSETFROM:+0200
TZOFFSETTO:+0100
TZNAME:CET
DTSTART:20211031T010000
END:STANDARD
END:VTIMEZONE
BEGIN:VEVENT
DTSTART;TZID=Europe/Berlin:20200304T230000
DTEND;TZID=Europe/Berlin:20200304T230000
DTSTAMP:20260424T131803
CREATED:20200304T070841Z
LAST-MODIFIED:20200304T070841Z
UID:2340-1583362800-1583362800@www.bjv-ffb.de
SUMMARY:Hegeringversammlung 69
DESCRIPTION:
URL:https://www.bjv-ffb.de/kalender/hegeringversammlung-69/
END:VEVENT
BEGIN:VEVENT
DTSTART;VALUE=DATE:20200305
DTEND;VALUE=DATE:20200310
DTSTAMP:20260424T131803
CREATED:20200106T111031Z
LAST-MODIFIED:20200303T080141Z
UID:2209-1583449200-1583794799@www.bjv-ffb.de
SUMMARY:IWA\, Nürnberg verschoben
DESCRIPTION:
URL:https://www.bjv-ffb.de/kalender/iwa/
LOCATION:Nürnberg
END:VEVENT
BEGIN:VEVENT
DTSTART;TZID=Europe/Berlin:20200311T180000
DTEND;TZID=Europe/Berlin:20200311T200000
DTSTAMP:20260424T131803
CREATED:20200304T070749Z
LAST-MODIFIED:20200304T070749Z
UID:2338-1583949600-1583956800@www.bjv-ffb.de
SUMMARY:Hegeringversammlung 70
DESCRIPTION:Landsberied Dorfwirt
URL:https://www.bjv-ffb.de/kalender/hegeringversammlung-70/
END:VEVENT
BEGIN:VEVENT
DTSTART;TZID=Europe/Berlin:20200314T183000
DTEND;TZID=Europe/Berlin:20200314T220000
DTSTAMP:20260424T131803
CREATED:20200226T114500Z
LAST-MODIFIED:20200313T155231Z
UID:2324-1584210600-1584223200@www.bjv-ffb.de
SUMMARY:verschoben Jahreshauptversammlung
DESCRIPTION:
URL:https://www.bjv-ffb.de/kalender/jahreshauptversammlung/
LOCATION:Bräustüberl Maisach\, Hauptstr. 24\, 82216
END:VEVENT
BEGIN:VEVENT
DTSTART;TZID=Europe/Berlin:20200324T183000
DTEND;TZID=Europe/Berlin:20200324T200000
DTSTAMP:20260424T131803
CREATED:20200304T070648Z
LAST-MODIFIED:20200318T065304Z
UID:2336-1585074600-1585080000@www.bjv-ffb.de
SUMMARY:Absage Hegeringversammlung 68
DESCRIPTION:Bräustüberl Maisach
URL:https://www.bjv-ffb.de/kalender/hegeringversammlung-68/
END:VEVENT
END:VCALENDAR