BEGIN:VCALENDAR
VERSION:2.0
PRODID:-//Bayerischer Jagdverband - ECPv6.15.20//NONSGML v1.0//EN
CALSCALE:GREGORIAN
METHOD:PUBLISH
X-WR-CALNAME:Bayerischer Jagdverband
X-ORIGINAL-URL:https://www.bjv-ffb.de
X-WR-CALDESC:Veranstaltungen für Bayerischer Jagdverband
REFRESH-INTERVAL;VALUE=DURATION:PT1H
X-Robots-Tag:noindex
X-PUBLISHED-TTL:PT1H
BEGIN:VTIMEZONE
TZID:Europe/Berlin
BEGIN:DAYLIGHT
TZOFFSETFROM:+0100
TZOFFSETTO:+0200
TZNAME:CEST
DTSTART:20190331T010000
END:DAYLIGHT
BEGIN:STANDARD
TZOFFSETFROM:+0200
TZOFFSETTO:+0100
TZNAME:CET
DTSTART:20191027T010000
END:STANDARD
BEGIN:DAYLIGHT
TZOFFSETFROM:+0100
TZOFFSETTO:+0200
TZNAME:CEST
DTSTART:20200329T010000
END:DAYLIGHT
BEGIN:STANDARD
TZOFFSETFROM:+0200
TZOFFSETTO:+0100
TZNAME:CET
DTSTART:20201025T010000
END:STANDARD
BEGIN:DAYLIGHT
TZOFFSETFROM:+0100
TZOFFSETTO:+0200
TZNAME:CEST
DTSTART:20210328T010000
END:DAYLIGHT
BEGIN:STANDARD
TZOFFSETFROM:+0200
TZOFFSETTO:+0100
TZNAME:CET
DTSTART:20211031T010000
END:STANDARD
END:VTIMEZONE
BEGIN:VEVENT
DTSTART;TZID=Europe/Berlin:20201003T090000
DTEND;TZID=Europe/Berlin:20201003T170000
DTSTAMP:20260424T040705
CREATED:20200929T073458Z
LAST-MODIFIED:20200929T073458Z
UID:3088-1601715600-1601744400@www.bjv-ffb.de
SUMMARY:Türkenfelder Handwerker- und Bauernmarkt
DESCRIPTION:
URL:https://www.bjv-ffb.de/kalender/tuerkenfelder-handwerker-und-bauernmarkt/
END:VEVENT
BEGIN:VEVENT
DTSTART;VALUE=DATE:20201008
DTEND;VALUE=DATE:20201012
DTSTAMP:20260424T040705
CREATED:20200106T110924Z
LAST-MODIFIED:20200806T094637Z
UID:2207-1602198000-1602457199@www.bjv-ffb.de
SUMMARY:abgesagt:  Jagd und Schützentage\, Grünau
DESCRIPTION:Planung neue Termine: \n22-25.4.2021 \n8-10.10.2021 \nwww.jagdundschuetzentage.de
URL:https://www.bjv-ffb.de/kalender/jagd-und-schuetzentage/
LOCATION:Schloss Grünau\, Neuburg a. d. Donau
END:VEVENT
BEGIN:VEVENT
DTSTART;VALUE=DATE:20201016
DTEND;VALUE=DATE:20201018
DTSTAMP:20260424T040705
CREATED:20200719T060217Z
LAST-MODIFIED:20201016T122724Z
UID:2844-1602889200-1602975599@www.bjv-ffb.de
SUMMARY:Absage Landesjägertag
DESCRIPTION:Der Termin für die Landesversammlung steht \nDie Delegiertenversammlung soll am 17. Oktober 2020 in der Messe Nürnberg stattfinden\, vorbehaltlich der behördlichen Genehmigung und des momentan dargelegten Kostenvorschlages.
URL:https://www.bjv-ffb.de/kalender/delegiertenversammlung/
END:VEVENT
BEGIN:VEVENT
DTSTART;TZID=Europe/Berlin:20201031T133000
DTEND;TZID=Europe/Berlin:20201031T160000
DTSTAMP:20260424T040705
CREATED:20201017T075331Z
LAST-MODIFIED:20201017T075719Z
UID:3146-1604151000-1604160000@www.bjv-ffb.de
SUMMARY:geplant:  Herbstschiessen im Schiesskino Wallenhausen
DESCRIPTION:
URL:https://www.bjv-ffb.de/kalender/geplant-herbstschiessen-im-schiesskino-wallenhausen/
END:VEVENT
END:VCALENDAR