BEGIN:VCALENDAR
VERSION:2.0
PRODID:-//Bayerischer Jagdverband - ECPv6.15.13//NONSGML v1.0//EN
CALSCALE:GREGORIAN
METHOD:PUBLISH
X-ORIGINAL-URL:https://www.bjv-ffb.de
X-WR-CALDESC:Veranstaltungen für Bayerischer Jagdverband
REFRESH-INTERVAL;VALUE=DURATION:PT1H
X-Robots-Tag:noindex
X-PUBLISHED-TTL:PT1H
BEGIN:VTIMEZONE
TZID:Europe/Berlin
BEGIN:DAYLIGHT
TZOFFSETFROM:+0100
TZOFFSETTO:+0200
TZNAME:CEST
DTSTART:20210328T010000
END:DAYLIGHT
BEGIN:STANDARD
TZOFFSETFROM:+0200
TZOFFSETTO:+0100
TZNAME:CET
DTSTART:20211031T010000
END:STANDARD
BEGIN:DAYLIGHT
TZOFFSETFROM:+0100
TZOFFSETTO:+0200
TZNAME:CEST
DTSTART:20220327T010000
END:DAYLIGHT
BEGIN:STANDARD
TZOFFSETFROM:+0200
TZOFFSETTO:+0100
TZNAME:CET
DTSTART:20221030T010000
END:STANDARD
BEGIN:DAYLIGHT
TZOFFSETFROM:+0100
TZOFFSETTO:+0200
TZNAME:CEST
DTSTART:20230326T010000
END:DAYLIGHT
BEGIN:STANDARD
TZOFFSETFROM:+0200
TZOFFSETTO:+0100
TZNAME:CET
DTSTART:20231029T010000
END:STANDARD
END:VTIMEZONE
BEGIN:VEVENT
DTSTART;TZID=Europe/Berlin:20220704T190000
DTEND;TZID=Europe/Berlin:20220704T190000
DTSTAMP:20260423T013443
CREATED:20220403T155238Z
LAST-MODIFIED:20220420T191507Z
UID:3668-1656961200-1656961200@www.bjv-ffb.de
SUMMARY:Auftritt Jagdhornbläser
DESCRIPTION:Hofkapelle\, Park 5\, 82216 Maisach
URL:https://www.bjv-ffb.de/kalender/auftritt-jagdhornblaeser-2/
LOCATION:Hofkapelle\, Prack 5\, 82216 Maisach
END:VEVENT
BEGIN:VEVENT
DTSTART;TZID=Europe/Berlin:20220712T183000
DTEND;TZID=Europe/Berlin:20220712T183000
DTSTAMP:20260423T013443
CREATED:20220616T155222Z
LAST-MODIFIED:20220616T184137Z
UID:3730-1657650600-1657650600@www.bjv-ffb.de
SUMMARY:Kg.FFB Jahreshauptversammlung 2022 Angerwirt  - Sportplatzstr. 7· 82216 Malching
DESCRIPTION:TAGESORDNUNG \n1. Eröffnung und Feststellung der Beschlussfähigkeit durch den 1. Vorsitzenden \n2. Gedenken der verstorbenen Mitglieder \n3. Rechenschaftsbericht des 1. Vorsitzenden über das Geschäftsjahr 2021 und ggf. Tä­tigkeitsberichte der Obleute \n4. Bericht des Schatzmeisters \n5. Bericht der Rechnungsprüfer \n6. Entlastung des Vorstandes und des Beirates für das Geschäftsjahr 2021 \n7. Ehrungen \n8. Verschiedenes \nDer Kassenbericht liegt wie jedes Jahr ab 19.00 Uhr zur Einsicht auf \n\n\n\nBitte beachten Sie die zum Zeitpunkt der Veranstaltung\ngültigen Covid-19 Bestimmungen. \n 
URL:https://www.bjv-ffb.de/kalender/jahreshauptversammlung-angerwirt-malching/
END:VEVENT
END:VCALENDAR