BEGIN:VCALENDAR
VERSION:2.0
PRODID:-//Bayerischer Jagdverband - ECPv6.15.13//NONSGML v1.0//EN
CALSCALE:GREGORIAN
METHOD:PUBLISH
X-ORIGINAL-URL:https://www.bjv-ffb.de
X-WR-CALDESC:Veranstaltungen für Bayerischer Jagdverband
REFRESH-INTERVAL;VALUE=DURATION:PT1H
X-Robots-Tag:noindex
X-PUBLISHED-TTL:PT1H
BEGIN:VTIMEZONE
TZID:Europe/Berlin
BEGIN:DAYLIGHT
TZOFFSETFROM:+0100
TZOFFSETTO:+0200
TZNAME:CEST
DTSTART:20210328T010000
END:DAYLIGHT
BEGIN:STANDARD
TZOFFSETFROM:+0200
TZOFFSETTO:+0100
TZNAME:CET
DTSTART:20211031T010000
END:STANDARD
BEGIN:DAYLIGHT
TZOFFSETFROM:+0100
TZOFFSETTO:+0200
TZNAME:CEST
DTSTART:20220327T010000
END:DAYLIGHT
BEGIN:STANDARD
TZOFFSETFROM:+0200
TZOFFSETTO:+0100
TZNAME:CET
DTSTART:20221030T010000
END:STANDARD
BEGIN:DAYLIGHT
TZOFFSETFROM:+0100
TZOFFSETTO:+0200
TZNAME:CEST
DTSTART:20230326T010000
END:DAYLIGHT
BEGIN:STANDARD
TZOFFSETFROM:+0200
TZOFFSETTO:+0100
TZNAME:CET
DTSTART:20231029T010000
END:STANDARD
END:VTIMEZONE
BEGIN:VEVENT
DTSTART;TZID=Europe/Berlin:20221010T190000
DTEND;TZID=Europe/Berlin:20221010T190000
DTSTAMP:20260422T213904
CREATED:20220403T155830Z
LAST-MODIFIED:20220403T160743Z
UID:3680-1665428400-1665428400@www.bjv-ffb.de
SUMMARY:Auftritt Jagdhornbläser
DESCRIPTION:Wallfahrtskapelle\, Geiselwies\, Sittenbach (85235 Odelzhausen)
URL:https://www.bjv-ffb.de/kalender/auftritt-jagdhornblaeser-5/
LOCATION:Wallfahrtskapelle Geiselwies\, Sittenbach (85235 Odelzhausen)
END:VEVENT
BEGIN:VEVENT
DTSTART;TZID=Europe/Berlin:20221029T100000
DTEND;TZID=Europe/Berlin:20221029T130000
DTSTAMP:20260422T213904
CREATED:20220924T121245Z
LAST-MODIFIED:20220924T125745Z
UID:3781-1667037600-1667048400@www.bjv-ffb.de
SUMMARY:Herbstschießen in Wallenhausen
DESCRIPTION:
URL:https://www.bjv-ffb.de/kalender/herbstschiessen-in-wallenhausen/
LOCATION:Oberdorfstraße 6\, 89264 Weißenhorn OT Wallenhausen\, Oberdorfstraße 6\, Wallenhausen\, 89264\, Deutschland
END:VEVENT
END:VCALENDAR