BEGIN:VCALENDAR
VERSION:2.0
PRODID:-//Bayerischer Jagdverband - ECPv6.15.13//NONSGML v1.0//EN
CALSCALE:GREGORIAN
METHOD:PUBLISH
X-WR-CALNAME:Bayerischer Jagdverband
X-ORIGINAL-URL:https://www.bjv-ffb.de
X-WR-CALDESC:Veranstaltungen für Bayerischer Jagdverband
REFRESH-INTERVAL;VALUE=DURATION:PT1H
X-Robots-Tag:noindex
X-PUBLISHED-TTL:PT1H
BEGIN:VTIMEZONE
TZID:Europe/Berlin
BEGIN:DAYLIGHT
TZOFFSETFROM:+0100
TZOFFSETTO:+0200
TZNAME:CEST
DTSTART:20210328T010000
END:DAYLIGHT
BEGIN:STANDARD
TZOFFSETFROM:+0200
TZOFFSETTO:+0100
TZNAME:CET
DTSTART:20211031T010000
END:STANDARD
BEGIN:DAYLIGHT
TZOFFSETFROM:+0100
TZOFFSETTO:+0200
TZNAME:CEST
DTSTART:20220327T010000
END:DAYLIGHT
BEGIN:STANDARD
TZOFFSETFROM:+0200
TZOFFSETTO:+0100
TZNAME:CET
DTSTART:20221030T010000
END:STANDARD
BEGIN:DAYLIGHT
TZOFFSETFROM:+0100
TZOFFSETTO:+0200
TZNAME:CEST
DTSTART:20230326T010000
END:DAYLIGHT
BEGIN:STANDARD
TZOFFSETFROM:+0200
TZOFFSETTO:+0100
TZNAME:CET
DTSTART:20231029T010000
END:STANDARD
END:VTIMEZONE
BEGIN:VEVENT
DTSTART;TZID=Europe/Berlin:20221104T180000
DTEND;TZID=Europe/Berlin:20221104T190000
DTSTAMP:20260422T202628
CREATED:20220925T141527Z
LAST-MODIFIED:20220925T141527Z
UID:3800-1667584800-1667588400@www.bjv-ffb.de
SUMMARY:Hubertusmesse 2022
DESCRIPTION:
URL:https://www.bjv-ffb.de/kalender/hubertusmesse-2022/
LOCATION:Evangelische Kirche Fürstenfeldbruck\, Stockmeierweg 7\, Stockmeierweg 7\, Fürstenfeldbruck\, Bayern\, 82256\, Deutschland
END:VEVENT
BEGIN:VEVENT
DTSTART;TZID=Europe/Berlin:20221122T190000
DTEND;TZID=Europe/Berlin:20221122T210000
DTSTAMP:20260422T202628
CREATED:20221010T135535Z
LAST-MODIFIED:20221010T135903Z
UID:3827-1669143600-1669150800@www.bjv-ffb.de
SUMMARY:Jungjäger-Stammtisch
DESCRIPTION:
URL:https://www.bjv-ffb.de/kalender/jungjaeger-stammtisch/
END:VEVENT
END:VCALENDAR