BEGIN:VCALENDAR
VERSION:2.0
PRODID:-//Bayerischer Jagdverband - ECPv6.15.13//NONSGML v1.0//EN
CALSCALE:GREGORIAN
METHOD:PUBLISH
X-ORIGINAL-URL:https://www.bjv-ffb.de
X-WR-CALDESC:Veranstaltungen für Bayerischer Jagdverband
REFRESH-INTERVAL;VALUE=DURATION:PT1H
X-Robots-Tag:noindex
X-PUBLISHED-TTL:PT1H
BEGIN:VTIMEZONE
TZID:Europe/Berlin
BEGIN:DAYLIGHT
TZOFFSETFROM:+0100
TZOFFSETTO:+0200
TZNAME:CEST
DTSTART:20220327T010000
END:DAYLIGHT
BEGIN:STANDARD
TZOFFSETFROM:+0200
TZOFFSETTO:+0100
TZNAME:CET
DTSTART:20221030T010000
END:STANDARD
BEGIN:DAYLIGHT
TZOFFSETFROM:+0100
TZOFFSETTO:+0200
TZNAME:CEST
DTSTART:20230326T010000
END:DAYLIGHT
BEGIN:STANDARD
TZOFFSETFROM:+0200
TZOFFSETTO:+0100
TZNAME:CET
DTSTART:20231029T010000
END:STANDARD
BEGIN:DAYLIGHT
TZOFFSETFROM:+0100
TZOFFSETTO:+0200
TZNAME:CEST
DTSTART:20240331T010000
END:DAYLIGHT
BEGIN:STANDARD
TZOFFSETFROM:+0200
TZOFFSETTO:+0100
TZNAME:CET
DTSTART:20241027T010000
END:STANDARD
END:VTIMEZONE
BEGIN:VEVENT
DTSTART;TZID=Europe/Berlin:20230508T200000
DTEND;TZID=Europe/Berlin:20230508T210000
DTSTAMP:20260422T130726
CREATED:20230424T171000Z
LAST-MODIFIED:20230424T172057Z
UID:4066-1683576000-1683579600@www.bjv-ffb.de
SUMMARY:Bläser Serenaden 2023\, traditionelle Momente vor Sonnenuntergang\, Waldkapelle Türkenfeld
DESCRIPTION:Die Bläser der Kreisgruppe Fürstenfeldbruck haben sich wieder besonders schöne Fleckerl für ihre sechs Auftritte im Landkreis ausgesucht. Die Konzerte finden jeweils um 20.00 Uhr statt. Bei schlechtem Wetter eine Woche später. Wir laden Sie herzlich ein\, diese wunderbaren Momente musikalischen Brauchtums zu erleben. \nWaldkapelle in Türkenfeld (St.Ottilien-Str.5\, zwischen 82299 Türkenfeld und St. Ottilien; Navi 48°05’59.7″N 11°04’12.6″E)
URL:https://www.bjv-ffb.de/kalender/blaeser-serenaden-2023-traditionelle-momente-vor-sonnenuntergang-2/
LOCATION:Waldkapelle in Türkenfeld (St.Ottilien-Str.5\, zwischen 82299 Türkenfeld und St. Ottilien; Navi 48°05’59.7″N 11°04’12.6″E)
ATTACH;FMTTYPE=image/png:https://www.bjv-ffb.de/wp-content/uploads/2017/05/jagdhornblaeser.png
END:VEVENT
END:VCALENDAR