BEGIN:VCALENDAR
VERSION:2.0
PRODID:-//Bayerischer Jagdverband - ECPv6.15.13//NONSGML v1.0//EN
CALSCALE:GREGORIAN
METHOD:PUBLISH
X-WR-CALNAME:Bayerischer Jagdverband
X-ORIGINAL-URL:https://www.bjv-ffb.de
X-WR-CALDESC:Veranstaltungen für Bayerischer Jagdverband
REFRESH-INTERVAL;VALUE=DURATION:PT1H
X-Robots-Tag:noindex
X-PUBLISHED-TTL:PT1H
BEGIN:VTIMEZONE
TZID:Europe/Berlin
BEGIN:DAYLIGHT
TZOFFSETFROM:+0100
TZOFFSETTO:+0200
TZNAME:CEST
DTSTART:20220327T010000
END:DAYLIGHT
BEGIN:STANDARD
TZOFFSETFROM:+0200
TZOFFSETTO:+0100
TZNAME:CET
DTSTART:20221030T010000
END:STANDARD
BEGIN:DAYLIGHT
TZOFFSETFROM:+0100
TZOFFSETTO:+0200
TZNAME:CEST
DTSTART:20230326T010000
END:DAYLIGHT
BEGIN:STANDARD
TZOFFSETFROM:+0200
TZOFFSETTO:+0100
TZNAME:CET
DTSTART:20231029T010000
END:STANDARD
BEGIN:DAYLIGHT
TZOFFSETFROM:+0100
TZOFFSETTO:+0200
TZNAME:CEST
DTSTART:20240331T010000
END:DAYLIGHT
BEGIN:STANDARD
TZOFFSETFROM:+0200
TZOFFSETTO:+0100
TZNAME:CET
DTSTART:20241027T010000
END:STANDARD
END:VTIMEZONE
BEGIN:VEVENT
DTSTART;TZID=Europe/Berlin:20230703T200000
DTEND;TZID=Europe/Berlin:20230703T210000
DTSTAMP:20260422T102439
CREATED:20230424T173038Z
LAST-MODIFIED:20230424T173431Z
UID:4086-1688414400-1688418000@www.bjv-ffb.de
SUMMARY:Bläser Serenaden 2023\, traditionelle Momente vor Sonnenuntergang\, Kapelle Roggenstein\, Eichenau
DESCRIPTION:Die Bläser der Kreisgruppe Fürstenfeldbruck haben sich wieder besonders schöne Fleckerl für ihre sechs Auftritte im Landkreis ausgesucht. Die Konzerte finden jeweils um 20.00 Uhr statt. Bei schlechtem Wetter eine Woche später. Wir laden Sie herzlich ein\, diese wunderbaren Momente musikalischen Brauchtums zu erleben. \n3. Juli 2023\, 20 Uhr: Kapelle Roggenstein (Oberroggenstein 1\, 82223 Eichenau)
URL:https://www.bjv-ffb.de/kalender/blaeser-serenaden-2023-traditionelle-momente-vor-sonnenuntergang-kapelle-roggenstein-eichenau/
LOCATION:Kapelle Roggenstein (Oberroggenstein 1\, 82223 Eichenau)
ATTACH;FMTTYPE=image/png:https://www.bjv-ffb.de/wp-content/uploads/2017/05/jagdhornblaeser.png
END:VEVENT
BEGIN:VEVENT
DTSTART;TZID=Europe/Berlin:20230706T190000
DTEND;TZID=Europe/Berlin:20230706T220000
DTSTAMP:20260422T102439
CREATED:20230424T182057Z
LAST-MODIFIED:20230607T124901Z
UID:4114-1688670000-1688680800@www.bjv-ffb.de
SUMMARY:Jahreshauptversammlung BJV Kreisgruppe Fürstenfeldbruck 2023
DESCRIPTION:Ort: Angerwirt\, 82216 Malching\, Sportplatzstraße 7\nBeginn: 19.00 Uhr\nSchriftliche Einladung folgt.
URL:https://www.bjv-ffb.de/kalender/jahreshauptversammlung-bjv-kreisgruppe-fuerstenfeldbruck/
LOCATION:Angerwirt 82216 Malching Sportplatzstraße 7
END:VEVENT
END:VCALENDAR