BEGIN:VCALENDAR
VERSION:2.0
PRODID:-//Bayerischer Jagdverband - ECPv6.15.13//NONSGML v1.0//EN
CALSCALE:GREGORIAN
METHOD:PUBLISH
X-ORIGINAL-URL:https://www.bjv-ffb.de
X-WR-CALDESC:Veranstaltungen für Bayerischer Jagdverband
REFRESH-INTERVAL;VALUE=DURATION:PT1H
X-Robots-Tag:noindex
X-PUBLISHED-TTL:PT1H
BEGIN:VTIMEZONE
TZID:Europe/Berlin
BEGIN:DAYLIGHT
TZOFFSETFROM:+0100
TZOFFSETTO:+0200
TZNAME:CEST
DTSTART:20220327T010000
END:DAYLIGHT
BEGIN:STANDARD
TZOFFSETFROM:+0200
TZOFFSETTO:+0100
TZNAME:CET
DTSTART:20221030T010000
END:STANDARD
BEGIN:DAYLIGHT
TZOFFSETFROM:+0100
TZOFFSETTO:+0200
TZNAME:CEST
DTSTART:20230326T010000
END:DAYLIGHT
BEGIN:STANDARD
TZOFFSETFROM:+0200
TZOFFSETTO:+0100
TZNAME:CET
DTSTART:20231029T010000
END:STANDARD
BEGIN:DAYLIGHT
TZOFFSETFROM:+0100
TZOFFSETTO:+0200
TZNAME:CEST
DTSTART:20240331T010000
END:DAYLIGHT
BEGIN:STANDARD
TZOFFSETFROM:+0200
TZOFFSETTO:+0100
TZNAME:CET
DTSTART:20241027T010000
END:STANDARD
END:VTIMEZONE
BEGIN:VEVENT
DTSTART;TZID=Europe/Berlin:20230807T200000
DTEND;TZID=Europe/Berlin:20230807T210000
DTSTAMP:20260422T091122
CREATED:20230424T173559Z
LAST-MODIFIED:20230424T174031Z
UID:4091-1691438400-1691442000@www.bjv-ffb.de
SUMMARY:Bläser Serenaden 2023\, traditionelle Momente vor Sonnenuntergang\, Kapelle Dietschweg\, Olching
DESCRIPTION:Die Bläser der Kreisgruppe Fürstenfeldbruck haben sich wieder besonders schöne Fleckerl für ihre sechs Auftritte im Landkreis ausgesucht. Die Konzerte finden jeweils um 20.00 Uhr statt. Bei schlechtem Wetter eine Woche später. Wir laden Sie herzlich ein\, diese wunderbaren Momente musikalischen Brauchtums zu erleben. \n7. August 2023\, 20 Uhr: Kapelle Dietschweg beim Haderecker\, 82194 Olching
URL:https://www.bjv-ffb.de/kalender/4091/
LOCATION:Kapelle Dietschweg beim Haderecker\, 82194 Olching
ATTACH;FMTTYPE=image/png:https://www.bjv-ffb.de/wp-content/uploads/2017/05/jagdhornblaeser.png
END:VEVENT
END:VCALENDAR