BEGIN:VCALENDAR
VERSION:2.0
PRODID:-//Bayerischer Jagdverband - ECPv6.15.13//NONSGML v1.0//EN
CALSCALE:GREGORIAN
METHOD:PUBLISH
X-WR-CALNAME:Bayerischer Jagdverband
X-ORIGINAL-URL:https://www.bjv-ffb.de
X-WR-CALDESC:Veranstaltungen für Bayerischer Jagdverband
REFRESH-INTERVAL;VALUE=DURATION:PT1H
X-Robots-Tag:noindex
X-PUBLISHED-TTL:PT1H
BEGIN:VTIMEZONE
TZID:Europe/Berlin
BEGIN:DAYLIGHT
TZOFFSETFROM:+0100
TZOFFSETTO:+0200
TZNAME:CEST
DTSTART:20220327T010000
END:DAYLIGHT
BEGIN:STANDARD
TZOFFSETFROM:+0200
TZOFFSETTO:+0100
TZNAME:CET
DTSTART:20221030T010000
END:STANDARD
BEGIN:DAYLIGHT
TZOFFSETFROM:+0100
TZOFFSETTO:+0200
TZNAME:CEST
DTSTART:20230326T010000
END:DAYLIGHT
BEGIN:STANDARD
TZOFFSETFROM:+0200
TZOFFSETTO:+0100
TZNAME:CET
DTSTART:20231029T010000
END:STANDARD
BEGIN:DAYLIGHT
TZOFFSETFROM:+0100
TZOFFSETTO:+0200
TZNAME:CEST
DTSTART:20240331T010000
END:DAYLIGHT
BEGIN:STANDARD
TZOFFSETFROM:+0200
TZOFFSETTO:+0100
TZNAME:CET
DTSTART:20241027T010000
END:STANDARD
END:VTIMEZONE
BEGIN:VEVENT
DTSTART;TZID=Europe/Berlin:20230902T090000
DTEND;TZID=Europe/Berlin:20230902T130000
DTSTAMP:20260422T075321
CREATED:20230424T183105Z
LAST-MODIFIED:20230531T140503Z
UID:4121-1693645200-1693659600@www.bjv-ffb.de
SUMMARY:Jagdhundekurs Brauchbarkeitsprüfung Gruppe 1
DESCRIPTION:Wenn Sie bei der Brauchbarkeitsprüfung der Gruppe 1 als Gast zusehen wollen\, melden Sie sich bitte bei unserer Hundeobfrau Radegund Abele.
URL:https://www.bjv-ffb.de/kalender/jagdhundekurs-brauchbarkeitspruefung-gruppe-1/
ATTACH;FMTTYPE=image/jpeg:https://www.bjv-ffb.de/wp-content/uploads/2023/04/3373fac3-ea29-4265-9200-1949d3904c9b.jpg
END:VEVENT
BEGIN:VEVENT
DTSTART;TZID=Europe/Berlin:20230904T200000
DTEND;TZID=Europe/Berlin:20230904T210000
DTSTAMP:20260422T075321
CREATED:20230424T174337Z
LAST-MODIFIED:20230424T175558Z
UID:4098-1693857600-1693861200@www.bjv-ffb.de
SUMMARY:Bläser Serenaden 2023\, traditionelle Momente vor Sonnenuntergang\, Kapelle am Wald\, Jesenwang
DESCRIPTION:Die Bläser der Kreisgruppe Fürstenfeldbruck haben sich wieder besonders schöne Fleckerl für ihre sechs Auftritte im Landkreis ausgesucht. Die Konzerte finden jeweils um 20.00 Uhr statt. Bei schlechtem Wetter eine Woche später. Wir laden Sie herzlich ein\, diese wunderbaren Momente musikalischen Brauchtums zu erleben. \n4. September 2023\, 20 Uhr: Kapelle am Wald\, Kapellenstrasse\, 82287 Jesenwang (Navi 48°09’14.1″N 11°08’28.4″E)
URL:https://www.bjv-ffb.de/kalender/blaeser-serenaden-2023-traditionelle-momente-vor-sonnenuntergang-3/
LOCATION:Kapelle am Wald\, Kapellenstrasse\, 82287 Jesenwang (Navi 48°09’14.1″N 11°08’28.4″E)
ATTACH;FMTTYPE=image/png:https://www.bjv-ffb.de/wp-content/uploads/2017/05/jagdhornblaeser.png
END:VEVENT
BEGIN:VEVENT
DTSTART;TZID=Europe/Berlin:20230909T090000
DTEND;TZID=Europe/Berlin:20230909T130000
DTSTAMP:20260422T075321
CREATED:20230424T183237Z
LAST-MODIFIED:20230531T140533Z
UID:4123-1694250000-1694264400@www.bjv-ffb.de
SUMMARY:Jagdhundekurs Brauchbarkeitsprüfung Gruppe 2
DESCRIPTION:Wenn Sie bei der Brauchbarkeitsprüfung der Gruppe 2 als Gast zusehen wollen\, melden Sie sich bitte bei unserer Hundeobfrau Radegund Abele.
URL:https://www.bjv-ffb.de/kalender/jagdhundekurs-gruppe-2/
ATTACH;FMTTYPE=image/jpeg:https://www.bjv-ffb.de/wp-content/uploads/2023/04/3373fac3-ea29-4265-9200-1949d3904c9b.jpg
END:VEVENT
BEGIN:VEVENT
DTSTART;TZID=Europe/Berlin:20230910T100000
DTEND;TZID=Europe/Berlin:20230910T180000
DTSTAMP:20260422T075321
CREATED:20230906T153933Z
LAST-MODIFIED:20230906T154139Z
UID:6506-1694340000-1694368800@www.bjv-ffb.de
SUMMARY:Festival der Tiere Türkenfeld\, Auftritt der Jagdhornbläser der Kreisgruppe
DESCRIPTION:Mehr Informationen finden Sie hier 
URL:https://www.bjv-ffb.de/kalender/festival-der-tiere-tuerkenfeld-auftritt-der-jagdhornblaeser-der-kreisgruppe/
LOCATION:Türkenfeld
END:VEVENT
BEGIN:VEVENT
DTSTART;TZID=Europe/Berlin:20230913T193000
DTEND;TZID=Europe/Berlin:20230913T230000
DTSTAMP:20260422T075321
CREATED:20230424T183359Z
LAST-MODIFIED:20230430T140151Z
UID:4125-1694633400-1694646000@www.bjv-ffb.de
SUMMARY:Jagdhundekurs 2023 Abschlussfeier
DESCRIPTION:
URL:https://www.bjv-ffb.de/kalender/jagdhundekurs-2023-abschlussfeier/
ATTACH;FMTTYPE=image/jpeg:https://www.bjv-ffb.de/wp-content/uploads/2023/04/3373fac3-ea29-4265-9200-1949d3904c9b.jpg
END:VEVENT
END:VCALENDAR