BEGIN:VCALENDAR
VERSION:2.0
PRODID:-//Bayerischer Jagdverband - ECPv6.15.13//NONSGML v1.0//EN
CALSCALE:GREGORIAN
METHOD:PUBLISH
X-WR-CALNAME:Bayerischer Jagdverband
X-ORIGINAL-URL:https://www.bjv-ffb.de
X-WR-CALDESC:Veranstaltungen für Bayerischer Jagdverband
REFRESH-INTERVAL;VALUE=DURATION:PT1H
X-Robots-Tag:noindex
X-PUBLISHED-TTL:PT1H
BEGIN:VTIMEZONE
TZID:Europe/Berlin
BEGIN:DAYLIGHT
TZOFFSETFROM:+0100
TZOFFSETTO:+0200
TZNAME:CEST
DTSTART:20220327T010000
END:DAYLIGHT
BEGIN:STANDARD
TZOFFSETFROM:+0200
TZOFFSETTO:+0100
TZNAME:CET
DTSTART:20221030T010000
END:STANDARD
BEGIN:DAYLIGHT
TZOFFSETFROM:+0100
TZOFFSETTO:+0200
TZNAME:CEST
DTSTART:20230326T010000
END:DAYLIGHT
BEGIN:STANDARD
TZOFFSETFROM:+0200
TZOFFSETTO:+0100
TZNAME:CET
DTSTART:20231029T010000
END:STANDARD
BEGIN:DAYLIGHT
TZOFFSETFROM:+0100
TZOFFSETTO:+0200
TZNAME:CEST
DTSTART:20240331T010000
END:DAYLIGHT
BEGIN:STANDARD
TZOFFSETFROM:+0200
TZOFFSETTO:+0100
TZNAME:CET
DTSTART:20241027T010000
END:STANDARD
END:VTIMEZONE
BEGIN:VEVENT
DTSTART;TZID=Europe/Berlin:20231002T200000
DTEND;TZID=Europe/Berlin:20231002T210000
DTSTAMP:20260422T064825
CREATED:20230424T180024Z
LAST-MODIFIED:20230531T132305Z
UID:4105-1696276800-1696280400@www.bjv-ffb.de
SUMMARY:Bläser Serenaden 2023\, traditionelle Momente vor Sonnenuntergang\, Wallfahrtskapelle Geiselwies\, Sittenbach
DESCRIPTION:Die Bläser der Kreisgruppe Fürstenfeldbruck haben sich wieder besonders schöne Fleckerl für ihre sechs Auftritte im Landkreis ausgesucht. Die Konzerte finden jeweils um 20.00 Uhr statt. Bei schlechtem Wetter eine Woche später. Wir laden Sie herzlich ein\, diese wunderbaren Momente musikalischen Brauchtums zu erleben. \n2. Oktober 2023\, 20 Uhr: Wallfahrtskapelle Geiselwies\, Zufahrt über die Geiselwieser Str.\, Sittenbach (85235 Odelzhausen)
URL:https://www.bjv-ffb.de/kalender/4105/
LOCATION:Wallfahrtskapelle Geiselwies\, Zufahrt über die Geiselwieser Str.\, Sittenbach (85235 Odelzhausen)
ATTACH;FMTTYPE=image/png:https://www.bjv-ffb.de/wp-content/uploads/2017/05/jagdhornblaeser.png
END:VEVENT
BEGIN:VEVENT
DTSTART;TZID=Europe/Berlin:20231013T093000
DTEND;TZID=Europe/Berlin:20231015T180000
DTSTAMP:20260422T064825
CREATED:20230630T161516Z
LAST-MODIFIED:20230909T065035Z
UID:5564-1697189400-1697392800@www.bjv-ffb.de
SUMMARY:Internationale Jagd- und Schützentage Grünau 2023\, 13. bis 15. Oktober
DESCRIPTION:Weitere Informationen finden Sie hier
URL:https://www.bjv-ffb.de/kalender/internationale-jagd-und-schuetzentage-gruenau-2023/
LOCATION:Jagdschloss Wittelsbach\, Grünau\, Neuburg a. d. Donau\, Grünau\, Neuburg a. d. Donau
END:VEVENT
BEGIN:VEVENT
DTSTART;TZID=Europe/Berlin:20231028T110000
DTEND;TZID=Europe/Berlin:20231028T140000
DTSTAMP:20260422T064825
CREATED:20230706T214552Z
LAST-MODIFIED:20230706T222421Z
UID:5712-1698490800-1698501600@www.bjv-ffb.de
SUMMARY:Herbstschießen Wallenhausen
DESCRIPTION:Herbstschießen im Jagdkino Wallenhausen\, Oberdorfstr. 6\, Weissenhorn\, Bayern.\nSchießzeit ist von 11.00 Uhr bis 14.00 Uhr.\nAnmeldemöglichkeit und An- und Abfahrt werden noch bekannt gegeben.
URL:https://www.bjv-ffb.de/kalender/herbstschiessen-wallenhausen/
LOCATION:Oberdorfstraße 6\, 89264 Weißenhorn OT Wallenhausen\, Oberdorfstraße 6\, Wallenhausen\, 89264\, Deutschland
END:VEVENT
END:VCALENDAR