BEGIN:VCALENDAR
VERSION:2.0
PRODID:-//Bayerischer Jagdverband - ECPv6.15.13//NONSGML v1.0//EN
CALSCALE:GREGORIAN
METHOD:PUBLISH
X-WR-CALNAME:Bayerischer Jagdverband
X-ORIGINAL-URL:https://www.bjv-ffb.de
X-WR-CALDESC:Veranstaltungen für Bayerischer Jagdverband
REFRESH-INTERVAL;VALUE=DURATION:PT1H
X-Robots-Tag:noindex
X-PUBLISHED-TTL:PT1H
BEGIN:VTIMEZONE
TZID:Europe/Berlin
BEGIN:DAYLIGHT
TZOFFSETFROM:+0100
TZOFFSETTO:+0200
TZNAME:CEST
DTSTART:20230326T010000
END:DAYLIGHT
BEGIN:STANDARD
TZOFFSETFROM:+0200
TZOFFSETTO:+0100
TZNAME:CET
DTSTART:20231029T010000
END:STANDARD
BEGIN:DAYLIGHT
TZOFFSETFROM:+0100
TZOFFSETTO:+0200
TZNAME:CEST
DTSTART:20240331T010000
END:DAYLIGHT
BEGIN:STANDARD
TZOFFSETFROM:+0200
TZOFFSETTO:+0100
TZNAME:CET
DTSTART:20241027T010000
END:STANDARD
BEGIN:DAYLIGHT
TZOFFSETFROM:+0100
TZOFFSETTO:+0200
TZNAME:CEST
DTSTART:20250330T010000
END:DAYLIGHT
BEGIN:STANDARD
TZOFFSETFROM:+0200
TZOFFSETTO:+0100
TZNAME:CET
DTSTART:20251026T010000
END:STANDARD
END:VTIMEZONE
BEGIN:VEVENT
DTSTART;TZID=Europe/Berlin:20240112T000000
DTEND;TZID=Europe/Berlin:20240114T000000
DTSTAMP:20260422T022631
CREATED:20230430T214006Z
LAST-MODIFIED:20230430T214006Z
UID:4268-1705017600-1705190400@www.bjv-ffb.de
SUMMARY:Jagen und Fischen in Augsburg
DESCRIPTION:
URL:https://www.bjv-ffb.de/kalender/jagen-und-fischen-in-augsburg/
LOCATION:Augsburg\, Am Messezentrum 5\, Augsburg\, Bayern\, 86159\, Deutschland
END:VEVENT
BEGIN:VEVENT
DTSTART;TZID=Europe/Berlin:20240120T080000
DTEND;TZID=Europe/Berlin:20240120T170000
DTSTAMP:20260422T022631
CREATED:20240120T115802Z
LAST-MODIFIED:20240120T115807Z
UID:7052-1705737600-1705770000@www.bjv-ffb.de
SUMMARY:2. Kurzwaffenkurs der BJV Kreisgruppe im Jagdparcour Oberbayern
DESCRIPTION:Die sichere Handhabung der Kurzwaffe ist auf der Nachsuche\, bei Wildunfällen sowie auf Schießständen notwendig. Um ihre Kurzwaffe sicher zu führen\, bietet die Kreisgruppe diesen Übungstag für ihre Mitglieder an. \nSamstag\, 16. März 2024 ab 12.30 bis ca. 20.00 Uhr.\nOrt: Jagdparcours Oberbayern \, Ostermoos 1\, 82285 Hattenhofen\nKosten: 35.00 € je Teilnehmer\, bitte passend bereithalten\nMunition: kann am Stand erworben werden\nReferenten: Reinhard und Sebastian Bugany \nAblauf\n12.30 – 13.00 Uhr Anmeldung.\n13.00 – 15.00 Uhr Einweisung\, Handhabung\, Sicherheitsbelehrung\, Pflege.\n15.00 – 16.00 Uhr Mittagstisch Küche am Schießstand ist geöffnet.\n16.00 – 19.30 Uhr Praktische Schießübungen\, Fangschuß auf Wildscheiben\,\n19.30 – 20.00 Uhr Resümee \nZum Übungstag bitte mitbringen:\nGültiger Deutscher Jagdschein\, Personalausweis\, WBK\, eigene Waffe\, Gehörschutz\, Brille\, ggf. Schießnachweis. \nDie Anzahl der Teilnehmer ist auf 16 begrenzt! \nBitte bis zum 08.03.2024 verbindlich anmelden bei:\nReinhard Bugany: info@ra.bugany.de\noder\nRainer Grüter: rainer1.grueter@gmail.com
URL:https://www.bjv-ffb.de/kalender/2-kurzwaffenkurs-der-bjv-kreisgruppe-im-jagdparcour-oberbayern/
END:VEVENT
END:VCALENDAR