BEGIN:VCALENDAR
VERSION:2.0
PRODID:-//Bayerischer Jagdverband - ECPv6.15.13//NONSGML v1.0//EN
CALSCALE:GREGORIAN
METHOD:PUBLISH
X-WR-CALNAME:Bayerischer Jagdverband
X-ORIGINAL-URL:https://www.bjv-ffb.de
X-WR-CALDESC:Veranstaltungen für Bayerischer Jagdverband
REFRESH-INTERVAL;VALUE=DURATION:PT1H
X-Robots-Tag:noindex
X-PUBLISHED-TTL:PT1H
BEGIN:VTIMEZONE
TZID:Europe/Berlin
BEGIN:DAYLIGHT
TZOFFSETFROM:+0100
TZOFFSETTO:+0200
TZNAME:CEST
DTSTART:20230326T010000
END:DAYLIGHT
BEGIN:STANDARD
TZOFFSETFROM:+0200
TZOFFSETTO:+0100
TZNAME:CET
DTSTART:20231029T010000
END:STANDARD
BEGIN:DAYLIGHT
TZOFFSETFROM:+0100
TZOFFSETTO:+0200
TZNAME:CEST
DTSTART:20240331T010000
END:DAYLIGHT
BEGIN:STANDARD
TZOFFSETFROM:+0200
TZOFFSETTO:+0100
TZNAME:CET
DTSTART:20241027T010000
END:STANDARD
BEGIN:DAYLIGHT
TZOFFSETFROM:+0100
TZOFFSETTO:+0200
TZNAME:CEST
DTSTART:20250330T010000
END:DAYLIGHT
BEGIN:STANDARD
TZOFFSETFROM:+0200
TZOFFSETTO:+0100
TZNAME:CET
DTSTART:20251026T010000
END:STANDARD
END:VTIMEZONE
BEGIN:VEVENT
DTSTART;TZID=Europe/Berlin:20240201T080000
DTEND;TZID=Europe/Berlin:20240201T170000
DTSTAMP:20260422T010322
CREATED:20231128T181129Z
LAST-MODIFIED:20231128T181129Z
UID:6953-1706774400-1706806800@www.bjv-ffb.de
SUMMARY:Hegeringversammlung 70 in Malching
DESCRIPTION:
URL:https://www.bjv-ffb.de/kalender/hegeringversammlung-70-in-malching/
END:VEVENT
BEGIN:VEVENT
DTSTART;TZID=Europe/Berlin:20240223T080000
DTEND;TZID=Europe/Berlin:20240223T170000
DTSTAMP:20260422T010322
CREATED:20231128T181232Z
LAST-MODIFIED:20231128T181232Z
UID:6955-1708675200-1708707600@www.bjv-ffb.de
SUMMARY:Hegeringversammlung 68 Malching
DESCRIPTION:
URL:https://www.bjv-ffb.de/kalender/hegeringversammlung-68-malching/
END:VEVENT
BEGIN:VEVENT
DTSTART;TZID=Europe/Berlin:20240228T190000
DTEND;TZID=Europe/Berlin:20240228T220000
DTSTAMP:20260422T010322
CREATED:20231202T150416Z
LAST-MODIFIED:20231202T155711Z
UID:6992-1709146800-1709157600@www.bjv-ffb.de
SUMMARY:Hündeführerlehrgang 2024 Informationsabend
DESCRIPTION:Gasthaus Schoambacher\n82281 Unterschweinbach\nMittwoch\, 28. Februar 2024\n19 Uhr
URL:https://www.bjv-ffb.de/kalender/huendefuehrerlehrgang-2024-informationsabend/
END:VEVENT
END:VCALENDAR