BEGIN:VCALENDAR
VERSION:2.0
PRODID:-//Bayerischer Jagdverband - ECPv6.15.13//NONSGML v1.0//EN
CALSCALE:GREGORIAN
METHOD:PUBLISH
X-WR-CALNAME:Bayerischer Jagdverband
X-ORIGINAL-URL:https://www.bjv-ffb.de
X-WR-CALDESC:Veranstaltungen für Bayerischer Jagdverband
REFRESH-INTERVAL;VALUE=DURATION:PT1H
X-Robots-Tag:noindex
X-PUBLISHED-TTL:PT1H
BEGIN:VTIMEZONE
TZID:Europe/Berlin
BEGIN:DAYLIGHT
TZOFFSETFROM:+0100
TZOFFSETTO:+0200
TZNAME:CEST
DTSTART:20230326T010000
END:DAYLIGHT
BEGIN:STANDARD
TZOFFSETFROM:+0200
TZOFFSETTO:+0100
TZNAME:CET
DTSTART:20231029T010000
END:STANDARD
BEGIN:DAYLIGHT
TZOFFSETFROM:+0100
TZOFFSETTO:+0200
TZNAME:CEST
DTSTART:20240331T010000
END:DAYLIGHT
BEGIN:STANDARD
TZOFFSETFROM:+0200
TZOFFSETTO:+0100
TZNAME:CET
DTSTART:20241027T010000
END:STANDARD
BEGIN:DAYLIGHT
TZOFFSETFROM:+0100
TZOFFSETTO:+0200
TZNAME:CEST
DTSTART:20250330T010000
END:DAYLIGHT
BEGIN:STANDARD
TZOFFSETFROM:+0200
TZOFFSETTO:+0100
TZNAME:CET
DTSTART:20251026T010000
END:STANDARD
END:VTIMEZONE
BEGIN:VEVENT
DTSTART;VALUE=DATE:20240309
DTEND;VALUE=DATE:20240311
DTSTAMP:20260421T231029
CREATED:20231123T133658Z
LAST-MODIFIED:20240206T201309Z
UID:6919-1709942400-1710115199@www.bjv-ffb.de
SUMMARY:Landesjägertag in Weiden\, 9. bis 10. März 2024
DESCRIPTION:Landesjägertag in Weiden\, 9. bis 10. März 2024
URL:https://www.bjv-ffb.de/kalender/landesjaegertag-in-fuessen-am-9-maerz-2024/
END:VEVENT
BEGIN:VEVENT
DTSTART;TZID=Europe/Berlin:20240321T190000
DTEND;TZID=Europe/Berlin:20240321T220000
DTSTAMP:20260421T231029
CREATED:20240208T193120Z
LAST-MODIFIED:20240208T193912Z
UID:7126-1711047600-1711058400@www.bjv-ffb.de
SUMMARY:Einladung zum Jungjägerstammtisch am 21. März 2024 in Mammendorf
DESCRIPTION:Die Kreisgruppe Fürstenfeldbruck des BJV lädt herzlich ein zum \nJungjägerstammtisch mit Vortrag zum Thema „Jagen mit Hund“ \nTermin: 21. März 2024 um 19.00 Uhr\nOrt: Bürgerhaus Mammendorf/Restaurant zur Sonne \nReferent: Andreas Rauch \nIm Vortrag geht es um die Themen: \n\nJagen mit dem Hund\nNeue Brauchbarkeitsprüfungsverordnung\nNachsuche mit dem Hund und Fehler vermeiden\nDiskussion und Beantwortung von Fragen\n\nNatürlich ist der Vortrag auch für alle Jäger interessant – deshalb sind alle Jäger der Kreisgruppe gleichfalls herzlich eingeladen.\nAnschließen freuen wir uns über „gmiatliche Stunden und an guadn Ratsch“.Für die Planung freut es uns\, wenn ihr euch bei Elisabeth Strauß\nunter 0179 7663381 anmeldet. \nWir freuen uns auf zahlreiches Erscheinen. Bis dahin ein kräftiges\nWaidmannsheil. \nElisabeth Strauß und Tom Kraut
URL:https://www.bjv-ffb.de/kalender/einladung-zum-jungjaegerstammtisch-am-21-maerz-2024-in-mammendorf/
END:VEVENT
END:VCALENDAR