BEGIN:VCALENDAR
VERSION:2.0
PRODID:-//Bayerischer Jagdverband - ECPv6.15.13//NONSGML v1.0//EN
CALSCALE:GREGORIAN
METHOD:PUBLISH
X-ORIGINAL-URL:https://www.bjv-ffb.de
X-WR-CALDESC:Veranstaltungen für Bayerischer Jagdverband
REFRESH-INTERVAL;VALUE=DURATION:PT1H
X-Robots-Tag:noindex
X-PUBLISHED-TTL:PT1H
BEGIN:VTIMEZONE
TZID:Europe/Berlin
BEGIN:DAYLIGHT
TZOFFSETFROM:+0100
TZOFFSETTO:+0200
TZNAME:CEST
DTSTART:20230326T010000
END:DAYLIGHT
BEGIN:STANDARD
TZOFFSETFROM:+0200
TZOFFSETTO:+0100
TZNAME:CET
DTSTART:20231029T010000
END:STANDARD
BEGIN:DAYLIGHT
TZOFFSETFROM:+0100
TZOFFSETTO:+0200
TZNAME:CEST
DTSTART:20240331T010000
END:DAYLIGHT
BEGIN:STANDARD
TZOFFSETFROM:+0200
TZOFFSETTO:+0100
TZNAME:CET
DTSTART:20241027T010000
END:STANDARD
BEGIN:DAYLIGHT
TZOFFSETFROM:+0100
TZOFFSETTO:+0200
TZNAME:CEST
DTSTART:20250330T010000
END:DAYLIGHT
BEGIN:STANDARD
TZOFFSETFROM:+0200
TZOFFSETTO:+0100
TZNAME:CET
DTSTART:20251026T010000
END:STANDARD
END:VTIMEZONE
BEGIN:VEVENT
DTSTART;TZID=Europe/Berlin:20240701T200000
DTEND;TZID=Europe/Berlin:20240701T220000
DTSTAMP:20260421T173356
CREATED:20231128T181921Z
LAST-MODIFIED:20240207T163048Z
UID:6967-1719864000-1719871200@www.bjv-ffb.de
SUMMARY:Jagdhornbläser Serenaden 2024 in Alling
DESCRIPTION:1. Juli (Montag) 2024\, 20 Uhr: Hubertus Marterl\, Toni Weiher\,\nRussengraben /Starzelbach\, 82239 Alling
URL:https://www.bjv-ffb.de/kalender/jagdhornblaeser-serenaden-2024-in-alling/
END:VEVENT
BEGIN:VEVENT
DTSTART;TZID=Europe/Berlin:20240718T190000
DTEND;TZID=Europe/Berlin:20240718T220000
DTSTAMP:20260421T173356
CREATED:20240404T211701Z
LAST-MODIFIED:20240718T060431Z
UID:7175-1721329200-1721340000@www.bjv-ffb.de
SUMMARY:BJV Kreisgruppe Fürstenfeldbruck Jahreshauptversammlung
DESCRIPTION:Donnerstag\, 18. Juli\, 19.00 Uhr Restaurant zur Sonne\, Mammendorf
URL:https://www.bjv-ffb.de/kalender/bjv-kreisgruppe-fuerstenfeldbruck-jahreshauptversammlung/
END:VEVENT
END:VCALENDAR