BEGIN:VCALENDAR
VERSION:2.0
PRODID:-//Bayerischer Jagdverband - ECPv6.15.13//NONSGML v1.0//EN
CALSCALE:GREGORIAN
METHOD:PUBLISH
X-ORIGINAL-URL:https://www.bjv-ffb.de
X-WR-CALDESC:Veranstaltungen für Bayerischer Jagdverband
REFRESH-INTERVAL;VALUE=DURATION:PT1H
X-Robots-Tag:noindex
X-PUBLISHED-TTL:PT1H
BEGIN:VTIMEZONE
TZID:Europe/Berlin
BEGIN:DAYLIGHT
TZOFFSETFROM:+0100
TZOFFSETTO:+0200
TZNAME:CEST
DTSTART:20230326T010000
END:DAYLIGHT
BEGIN:STANDARD
TZOFFSETFROM:+0200
TZOFFSETTO:+0100
TZNAME:CET
DTSTART:20231029T010000
END:STANDARD
BEGIN:DAYLIGHT
TZOFFSETFROM:+0100
TZOFFSETTO:+0200
TZNAME:CEST
DTSTART:20240331T010000
END:DAYLIGHT
BEGIN:STANDARD
TZOFFSETFROM:+0200
TZOFFSETTO:+0100
TZNAME:CET
DTSTART:20241027T010000
END:STANDARD
BEGIN:DAYLIGHT
TZOFFSETFROM:+0100
TZOFFSETTO:+0200
TZNAME:CEST
DTSTART:20250330T010000
END:DAYLIGHT
BEGIN:STANDARD
TZOFFSETFROM:+0200
TZOFFSETTO:+0100
TZNAME:CET
DTSTART:20251026T010000
END:STANDARD
END:VTIMEZONE
BEGIN:VEVENT
DTSTART;TZID=Europe/Berlin:20241007T180000
DTEND;TZID=Europe/Berlin:20241007T200000
DTSTAMP:20260421T133026
CREATED:20240207T163503Z
LAST-MODIFIED:20240207T163503Z
UID:7114-1728324000-1728331200@www.bjv-ffb.de
SUMMARY:Jagdhornbläser Serenaden 2024 Sittenbach
DESCRIPTION:7. Oktober 2024\, 18 Uhr: Wallfahrtskapelle Geiselwies\, Zufahrt über die Geiselwieser Str.\, Sittenbach/85235 Odelzhausen
URL:https://www.bjv-ffb.de/kalender/jagdhornblaeser-serenaden-2024-sittenbach/
END:VEVENT
BEGIN:VEVENT
DTSTART;TZID=Europe/Berlin:20241011T093000
DTEND;TZID=Europe/Berlin:20241013T180000
DTSTAMP:20260421T133026
CREATED:20240808T201351Z
LAST-MODIFIED:20240808T203132Z
UID:7499-1728639000-1728842400@www.bjv-ffb.de
SUMMARY:10. Internationale Jagd- und Schützentage – die Messe von Jägern für Jäger\, 11. bis 13. Oktober
DESCRIPTION:Gruppenermäßigung ab einer Gruppengröße von 10 Personen mit Vorbestellung bis zum 9. Oktober 2024 \nAlle Infos finden Sie hier
URL:https://www.bjv-ffb.de/kalender/10-internationale-jagd-und-schuetzentage-die-messe-von-jaegern-fuer-jaeger-11-bis-13-oktober/
END:VEVENT
END:VCALENDAR