BEGIN:VCALENDAR
VERSION:2.0
PRODID:-//Bayerischer Jagdverband - ECPv6.15.13//NONSGML v1.0//EN
CALSCALE:GREGORIAN
METHOD:PUBLISH
X-ORIGINAL-URL:https://www.bjv-ffb.de
X-WR-CALDESC:Veranstaltungen für Bayerischer Jagdverband
REFRESH-INTERVAL;VALUE=DURATION:PT1H
X-Robots-Tag:noindex
X-PUBLISHED-TTL:PT1H
BEGIN:VTIMEZONE
TZID:Europe/Berlin
BEGIN:DAYLIGHT
TZOFFSETFROM:+0100
TZOFFSETTO:+0200
TZNAME:CEST
DTSTART:20230326T010000
END:DAYLIGHT
BEGIN:STANDARD
TZOFFSETFROM:+0200
TZOFFSETTO:+0100
TZNAME:CET
DTSTART:20231029T010000
END:STANDARD
BEGIN:DAYLIGHT
TZOFFSETFROM:+0100
TZOFFSETTO:+0200
TZNAME:CEST
DTSTART:20240331T010000
END:DAYLIGHT
BEGIN:STANDARD
TZOFFSETFROM:+0200
TZOFFSETTO:+0100
TZNAME:CET
DTSTART:20241027T010000
END:STANDARD
BEGIN:DAYLIGHT
TZOFFSETFROM:+0100
TZOFFSETTO:+0200
TZNAME:CEST
DTSTART:20250330T010000
END:DAYLIGHT
BEGIN:STANDARD
TZOFFSETFROM:+0200
TZOFFSETTO:+0100
TZNAME:CET
DTSTART:20251026T010000
END:STANDARD
END:VTIMEZONE
BEGIN:VEVENT
DTSTART;TZID=Europe/Berlin:20241103T100000
DTEND;TZID=Europe/Berlin:20241103T150000
DTSTAMP:20260421T120500
CREATED:20241008T210727Z
LAST-MODIFIED:20241013T190325Z
UID:7544-1730628000-1730646000@www.bjv-ffb.de
SUMMARY:3. November 2024: Hubertusfeier in Landsberied
DESCRIPTION:Zur feierlichen Hubertusmesse 2024 laden wir Sie und Ihre Familienangehörigen herzlich ein. \nSonntag\, 3. November\, 10.00 Uhr\nPfarrkirche St. Johannis\nKirchstr. 3\, 82290 Landsberied \nDie Messe wird zelebriert von Pater Dr. Cyrill Schäfer OSB \nUnter der musikalischen Leitung von Peter Genter begleitet das Bläsercorps der Kreisgruppe Fürstenfeldbruck diese Messe. In unterschiedlichen Besetzungen spielen: \n\nAlle Jagdhörner\nNur die Parforcehörner\nOrgel allein mit Gesang\nVentil Hörner mit Orgel\n\nAnschließend gesellige Zusammenkunft ab ca. 11.15 Uhr\nim Gasthaus „Zum Dorfwirt“\nRömerstr. 20\, 82290 Landsberied \nWir freuen uns auf Ihr Kommen! \nGerhard v. Hößlin
URL:https://www.bjv-ffb.de/kalender/3-november-2024-hubertusfeier-in-landsberied/
END:VEVENT
END:VCALENDAR