BEGIN:VCALENDAR
VERSION:2.0
PRODID:-//Bayerischer Jagdverband - ECPv6.15.13//NONSGML v1.0//EN
CALSCALE:GREGORIAN
METHOD:PUBLISH
X-WR-CALNAME:Bayerischer Jagdverband
X-ORIGINAL-URL:https://www.bjv-ffb.de
X-WR-CALDESC:Veranstaltungen für Bayerischer Jagdverband
REFRESH-INTERVAL;VALUE=DURATION:PT1H
X-Robots-Tag:noindex
X-PUBLISHED-TTL:PT1H
BEGIN:VTIMEZONE
TZID:Europe/Berlin
BEGIN:DAYLIGHT
TZOFFSETFROM:+0100
TZOFFSETTO:+0200
TZNAME:CEST
DTSTART:20240331T010000
END:DAYLIGHT
BEGIN:STANDARD
TZOFFSETFROM:+0200
TZOFFSETTO:+0100
TZNAME:CET
DTSTART:20241027T010000
END:STANDARD
BEGIN:DAYLIGHT
TZOFFSETFROM:+0100
TZOFFSETTO:+0200
TZNAME:CEST
DTSTART:20250330T010000
END:DAYLIGHT
BEGIN:STANDARD
TZOFFSETFROM:+0200
TZOFFSETTO:+0100
TZNAME:CET
DTSTART:20251026T010000
END:STANDARD
BEGIN:DAYLIGHT
TZOFFSETFROM:+0100
TZOFFSETTO:+0200
TZNAME:CEST
DTSTART:20260329T010000
END:DAYLIGHT
BEGIN:STANDARD
TZOFFSETFROM:+0200
TZOFFSETTO:+0100
TZNAME:CET
DTSTART:20261025T010000
END:STANDARD
END:VTIMEZONE
BEGIN:VEVENT
DTSTART;TZID=Europe/Berlin:20250213T190000
DTEND;TZID=Europe/Berlin:20250213T220000
DTSTAMP:20260421T075512
CREATED:20250202T104512Z
LAST-MODIFIED:20250202T104512Z
UID:7647-1739473200-1739484000@www.bjv-ffb.de
SUMMARY:Hegegemeinschaftsversammlung HG 70 um 19 Uhr
DESCRIPTION:Hegegemeinschaftsversammlung HG 70\, Gasthof Drexler in Aich\, Einladungsschreiben hier herunterladen
URL:https://www.bjv-ffb.de/kalender/hegegemeinschaftsversammlung-hg-70-um-19-uhr/
END:VEVENT
BEGIN:VEVENT
DTSTART;TZID=Europe/Berlin:20250217T000000
DTEND;TZID=Europe/Berlin:20250217T000000
DTSTAMP:20260421T075512
CREATED:20250202T104645Z
LAST-MODIFIED:20250202T104645Z
UID:7649-1739750400-1739750400@www.bjv-ffb.de
SUMMARY:Hegegemeinschaftsversammlung HG 69
DESCRIPTION:
URL:https://www.bjv-ffb.de/kalender/hegegemeinschaftsversammlung-hg-69/
END:VEVENT
BEGIN:VEVENT
DTSTART;TZID=Europe/Berlin:20250219T000000
DTEND;TZID=Europe/Berlin:20250219T000000
DTSTAMP:20260421T075512
CREATED:20250202T104738Z
LAST-MODIFIED:20250202T104738Z
UID:7651-1739923200-1739923200@www.bjv-ffb.de
SUMMARY:Hegegemeinschaftsversammlung HG 67
DESCRIPTION:
URL:https://www.bjv-ffb.de/kalender/hegegemeinschaftsversammlung-hg-67/
END:VEVENT
BEGIN:VEVENT
DTSTART;TZID=Europe/Berlin:20250220T193000
DTEND;TZID=Europe/Berlin:20250220T220000
DTSTAMP:20260421T075512
CREATED:20250211T093025Z
LAST-MODIFIED:20250211T093025Z
UID:7697-1740079800-1740088800@www.bjv-ffb.de
SUMMARY:Jahreshauptversammlung Waldbesitzervereinigung FFB e.V.
DESCRIPTION:20. Februar\, 19.30 Uhr Restaurant zur Sonne Mammendorf
URL:https://www.bjv-ffb.de/kalender/jahreshauptversammlung-waldbesitzervereinigung-ffb-e-v/
END:VEVENT
BEGIN:VEVENT
DTSTART;TZID=Europe/Berlin:20250221T000000
DTEND;TZID=Europe/Berlin:20250221T000000
DTSTAMP:20260421T075512
CREATED:20250202T104832Z
LAST-MODIFIED:20250202T104832Z
UID:7653-1740096000-1740096000@www.bjv-ffb.de
SUMMARY:Hegegemeinschaftsversammlung HG 68
DESCRIPTION:
URL:https://www.bjv-ffb.de/kalender/hegegemeinschaftsversammlung-hg-68/
END:VEVENT
END:VCALENDAR