BEGIN:VCALENDAR
VERSION:2.0
PRODID:-//Bayerischer Jagdverband - ECPv6.15.13//NONSGML v1.0//EN
CALSCALE:GREGORIAN
METHOD:PUBLISH
X-ORIGINAL-URL:https://www.bjv-ffb.de
X-WR-CALDESC:Veranstaltungen für Bayerischer Jagdverband
REFRESH-INTERVAL;VALUE=DURATION:PT1H
X-Robots-Tag:noindex
X-PUBLISHED-TTL:PT1H
BEGIN:VTIMEZONE
TZID:Europe/Berlin
BEGIN:DAYLIGHT
TZOFFSETFROM:+0100
TZOFFSETTO:+0200
TZNAME:CEST
DTSTART:20240331T010000
END:DAYLIGHT
BEGIN:STANDARD
TZOFFSETFROM:+0200
TZOFFSETTO:+0100
TZNAME:CET
DTSTART:20241027T010000
END:STANDARD
BEGIN:DAYLIGHT
TZOFFSETFROM:+0100
TZOFFSETTO:+0200
TZNAME:CEST
DTSTART:20250330T010000
END:DAYLIGHT
BEGIN:STANDARD
TZOFFSETFROM:+0200
TZOFFSETTO:+0100
TZNAME:CET
DTSTART:20251026T010000
END:STANDARD
BEGIN:DAYLIGHT
TZOFFSETFROM:+0100
TZOFFSETTO:+0200
TZNAME:CEST
DTSTART:20260329T010000
END:DAYLIGHT
BEGIN:STANDARD
TZOFFSETFROM:+0200
TZOFFSETTO:+0100
TZNAME:CET
DTSTART:20261025T010000
END:STANDARD
END:VTIMEZONE
BEGIN:VEVENT
DTSTART;TZID=Europe/Berlin:20250311T000000
DTEND;TZID=Europe/Berlin:20250311T000000
DTSTAMP:20260421T062256
CREATED:20250202T104952Z
LAST-MODIFIED:20250202T104952Z
UID:7655-1741651200-1741651200@www.bjv-ffb.de
SUMMARY:Start Hundeführer Lehrgang
DESCRIPTION:
URL:https://www.bjv-ffb.de/kalender/start-hundefuehrer-lehrgang/
END:VEVENT
BEGIN:VEVENT
DTSTART;TZID=Europe/Berlin:20250314T190000
DTEND;TZID=Europe/Berlin:20250314T200000
DTSTAMP:20260421T062256
CREATED:20250223T152154Z
LAST-MODIFIED:20250223T152154Z
UID:7701-1741978800-1741982400@www.bjv-ffb.de
SUMMARY:Neues Waffenrecht 2025 und auf was wir als Jäger besonders aufpassen sollten
DESCRIPTION:14. März 2025\, 19.00 Uhr: Kreisgruppenstammtisch Vortrag „Neues Waffenrecht 2025 und auf was wir als Jäger besonders aufpassen sollten“. Naturfreundehaus am Germeringer See\, Burgweg 16\, 82110 Germering
URL:https://www.bjv-ffb.de/kalender/neues-waffenrecht-2025-und-auf-was-wir-als-jaeger-besonders-aufpassen-sollten/
END:VEVENT
BEGIN:VEVENT
DTSTART;TZID=Europe/Berlin:20250316T100000
DTEND;TZID=Europe/Berlin:20250316T170000
DTSTAMP:20260421T062256
CREATED:20250227T172306Z
LAST-MODIFIED:20250227T172306Z
UID:7706-1742119200-1742144400@www.bjv-ffb.de
SUMMARY:Jägerflohmarkt der BJV-Kreisgruppe Starnberg
DESCRIPTION:Jägerflohmarkt für Jagdausrüstung\, BJV-Kreisgruppe Starnberg\, „Zum Oberen Wirt“\, Schulstraße 13\, Gilching \n 
URL:https://www.bjv-ffb.de/kalender/jaegerflohmarkt-der-bjv-kreisgruppe-starnberg/
END:VEVENT
END:VCALENDAR