BEGIN:VCALENDAR
VERSION:2.0
PRODID:-//Bayerischer Jagdverband - ECPv6.15.13//NONSGML v1.0//EN
CALSCALE:GREGORIAN
METHOD:PUBLISH
X-ORIGINAL-URL:https://www.bjv-ffb.de
X-WR-CALDESC:Veranstaltungen für Bayerischer Jagdverband
REFRESH-INTERVAL;VALUE=DURATION:PT1H
X-Robots-Tag:noindex
X-PUBLISHED-TTL:PT1H
BEGIN:VTIMEZONE
TZID:Europe/Berlin
BEGIN:DAYLIGHT
TZOFFSETFROM:+0100
TZOFFSETTO:+0200
TZNAME:CEST
DTSTART:20240331T010000
END:DAYLIGHT
BEGIN:STANDARD
TZOFFSETFROM:+0200
TZOFFSETTO:+0100
TZNAME:CET
DTSTART:20241027T010000
END:STANDARD
BEGIN:DAYLIGHT
TZOFFSETFROM:+0100
TZOFFSETTO:+0200
TZNAME:CEST
DTSTART:20250330T010000
END:DAYLIGHT
BEGIN:STANDARD
TZOFFSETFROM:+0200
TZOFFSETTO:+0100
TZNAME:CET
DTSTART:20251026T010000
END:STANDARD
BEGIN:DAYLIGHT
TZOFFSETFROM:+0100
TZOFFSETTO:+0200
TZNAME:CEST
DTSTART:20260329T010000
END:DAYLIGHT
BEGIN:STANDARD
TZOFFSETFROM:+0200
TZOFFSETTO:+0100
TZNAME:CET
DTSTART:20261025T010000
END:STANDARD
END:VTIMEZONE
BEGIN:VEVENT
DTSTART;TZID=Europe/Berlin:20250405T100000
DTEND;TZID=Europe/Berlin:20250405T160000
DTSTAMP:20260421T050224
CREATED:20240922T215256Z
LAST-MODIFIED:20240922T215510Z
UID:7535-1743847200-1743868800@www.bjv-ffb.de
SUMMARY:Frühjahrsschießen BJV Kreisgruppe FFB 5. April 2025
DESCRIPTION:5. April 2025\, 10:00 bis 16:00 Uhr: Frühjahrsschießen auf zwei Bahnen\, Jagdparcour Oberbayern\, Hattenhofen inklusive 13:00 bis 15:00 Uhr laufender Keiler
URL:https://www.bjv-ffb.de/kalender/fruehjahrsschiessen-bjv-kreisgruppe-ffb-5-april-2025/
END:VEVENT
BEGIN:VEVENT
DTSTART;TZID=Europe/Berlin:20250405T100000
DTEND;TZID=Europe/Berlin:20250405T160000
DTSTAMP:20260421T050224
CREATED:20250202T105124Z
LAST-MODIFIED:20250202T105139Z
UID:7657-1743847200-1743868800@www.bjv-ffb.de
SUMMARY:Frühjahrsschießen BJV Kreisgruppe
DESCRIPTION:10:00 bis 16:00 Uhr: Frühjahrsschießen BJV Kreisgruppe FFB auf zwei Bahnen\, Jagdparcour Oberbayern\, Hattenhofen inklusive 13:00 bis 15:00 Uhr laufender Keiler
URL:https://www.bjv-ffb.de/kalender/fruehjahrsschiessen-bjv-kreisgruppe/
END:VEVENT
BEGIN:VEVENT
DTSTART;VALUE=DATE:20250426
DTEND;VALUE=DATE:20250427
DTSTAMP:20260421T050224
CREATED:20241115T140109Z
LAST-MODIFIED:20241115T140246Z
UID:7599-1745625600-1745711999@www.bjv-ffb.de
SUMMARY:Öffentliche Pflicht-Hege- und Naturschau\, Mammendorf\, Restaurant zur Sonne
DESCRIPTION:
URL:https://www.bjv-ffb.de/kalender/oeffentliche-pflicht-hege-und-naturschau/
END:VEVENT
END:VCALENDAR