BEGIN:VCALENDAR
VERSION:2.0
PRODID:-//Bayerischer Jagdverband - ECPv6.15.13//NONSGML v1.0//EN
CALSCALE:GREGORIAN
METHOD:PUBLISH
X-ORIGINAL-URL:https://www.bjv-ffb.de
X-WR-CALDESC:Veranstaltungen für Bayerischer Jagdverband
REFRESH-INTERVAL;VALUE=DURATION:PT1H
X-Robots-Tag:noindex
X-PUBLISHED-TTL:PT1H
BEGIN:VTIMEZONE
TZID:Europe/Berlin
BEGIN:DAYLIGHT
TZOFFSETFROM:+0100
TZOFFSETTO:+0200
TZNAME:CEST
DTSTART:20240331T010000
END:DAYLIGHT
BEGIN:STANDARD
TZOFFSETFROM:+0200
TZOFFSETTO:+0100
TZNAME:CET
DTSTART:20241027T010000
END:STANDARD
BEGIN:DAYLIGHT
TZOFFSETFROM:+0100
TZOFFSETTO:+0200
TZNAME:CEST
DTSTART:20250330T010000
END:DAYLIGHT
BEGIN:STANDARD
TZOFFSETFROM:+0200
TZOFFSETTO:+0100
TZNAME:CET
DTSTART:20251026T010000
END:STANDARD
BEGIN:DAYLIGHT
TZOFFSETFROM:+0100
TZOFFSETTO:+0200
TZNAME:CEST
DTSTART:20260329T010000
END:DAYLIGHT
BEGIN:STANDARD
TZOFFSETFROM:+0200
TZOFFSETTO:+0100
TZNAME:CET
DTSTART:20261025T010000
END:STANDARD
END:VTIMEZONE
BEGIN:VEVENT
DTSTART;TZID=Europe/Berlin:20250707T200000
DTEND;TZID=Europe/Berlin:20250707T220000
DTSTAMP:20260421T004703
CREATED:20250202T105651Z
LAST-MODIFIED:20250706T131618Z
UID:7670-1751918400-1751925600@www.bjv-ffb.de
SUMMARY:Jagdhornbläser Serenade Jagerhäusl Mammendorf\, 14. Juli 2025\, 20 Uhr
DESCRIPTION:ca. 500m (Luftlinie) östlich von Gut Lindenhof\, Koord. 48.2234\, 11.1556\, im Norden von Mammendorf\, rechts der Straße nach Günzelhofen.\nHier Anfahrtsplan herunterladen \nACHTUNG: wetterbedingt verschoben von Montag dem 7. Juli\, auf Montag den 14. Juli 2025\, 20 Uhr
URL:https://www.bjv-ffb.de/kalender/jagdhornblaeser-serenade-mammendorf/
END:VEVENT
BEGIN:VEVENT
DTSTART;TZID=Europe/Berlin:20250727T160000
DTEND;TZID=Europe/Berlin:20250727T180000
DTSTAMP:20260421T004703
CREATED:20250629T155857Z
LAST-MODIFIED:20250629T155910Z
UID:7898-1753632000-1753639200@www.bjv-ffb.de
SUMMARY:Gottesdienst unter freiem Himmel „Lass es segnen“
DESCRIPTION:Am 27. Juli 2025 um 16 Uhr laden die beiden evangelischen Kirchengemeinden Olching-Maisach und Puchheim mit Pfarrerin Isabelle Freund und Pfarrer Axel Schmidt zusammen mit den Jagdhornbläsern der Kreisgruppe Fürstenfeldbruck herzlich zu einem besonderen Open-Air-Gottesdienst ein. \nDer Gottesdienst findet statt um 16 Uhr\, wir sind zu Gast auf dem Biolandhof Unglert in Puchheim\, Alte Bahnhofstraße 12.
URL:https://www.bjv-ffb.de/kalender/gottesdienst-unter-freiem-himmel-lass-es-segnen/
END:VEVENT
END:VCALENDAR