BEGIN:VCALENDAR
VERSION:2.0
PRODID:-//Bayerischer Jagdverband - ECPv6.15.13//NONSGML v1.0//EN
CALSCALE:GREGORIAN
METHOD:PUBLISH
X-WR-CALNAME:Bayerischer Jagdverband
X-ORIGINAL-URL:https://www.bjv-ffb.de
X-WR-CALDESC:Veranstaltungen für Bayerischer Jagdverband
REFRESH-INTERVAL;VALUE=DURATION:PT1H
X-Robots-Tag:noindex
X-PUBLISHED-TTL:PT1H
BEGIN:VTIMEZONE
TZID:Europe/Berlin
BEGIN:DAYLIGHT
TZOFFSETFROM:+0100
TZOFFSETTO:+0200
TZNAME:CEST
DTSTART:20240331T010000
END:DAYLIGHT
BEGIN:STANDARD
TZOFFSETFROM:+0200
TZOFFSETTO:+0100
TZNAME:CET
DTSTART:20241027T010000
END:STANDARD
BEGIN:DAYLIGHT
TZOFFSETFROM:+0100
TZOFFSETTO:+0200
TZNAME:CEST
DTSTART:20250330T010000
END:DAYLIGHT
BEGIN:STANDARD
TZOFFSETFROM:+0200
TZOFFSETTO:+0100
TZNAME:CET
DTSTART:20251026T010000
END:STANDARD
BEGIN:DAYLIGHT
TZOFFSETFROM:+0100
TZOFFSETTO:+0200
TZNAME:CEST
DTSTART:20260329T010000
END:DAYLIGHT
BEGIN:STANDARD
TZOFFSETFROM:+0200
TZOFFSETTO:+0100
TZNAME:CET
DTSTART:20261025T010000
END:STANDARD
END:VTIMEZONE
BEGIN:VEVENT
DTSTART;TZID=Europe/Berlin:20250908T190000
DTEND;TZID=Europe/Berlin:20250908T210000
DTSTAMP:20260420T220502
CREATED:20250202T105910Z
LAST-MODIFIED:20250831T120011Z
UID:7676-1757358000-1757365200@www.bjv-ffb.de
SUMMARY:Jagdhornbläser Serenade Waldkapelle Dirlesried\, 8. September 2025\, 19 Uhr
DESCRIPTION:Egenhofen\, Koord. 48.2840\, 11.1808
URL:https://www.bjv-ffb.de/kalender/jagdhornblaeser-serenade-dirlesried/
END:VEVENT
BEGIN:VEVENT
DTSTART;TZID=Europe/Berlin:20250913T000000
DTEND;TZID=Europe/Berlin:20250913T000000
DTSTAMP:20260420T220502
CREATED:20250202T105949Z
LAST-MODIFIED:20250202T105949Z
UID:7678-1757721600-1757721600@www.bjv-ffb.de
SUMMARY:Erste Brauchbarkeitsprüfung
DESCRIPTION:
URL:https://www.bjv-ffb.de/kalender/erste-brauchbarkeitspruefung/
END:VEVENT
BEGIN:VEVENT
DTSTART;TZID=Europe/Berlin:20250920T000000
DTEND;TZID=Europe/Berlin:20250920T000000
DTSTAMP:20260420T220502
CREATED:20250202T110045Z
LAST-MODIFIED:20250202T110045Z
UID:7680-1758326400-1758326400@www.bjv-ffb.de
SUMMARY:Zweite Brauchbarkeitsprüfung
DESCRIPTION:
URL:https://www.bjv-ffb.de/kalender/zweite-brauchbarkeitspruefung/
END:VEVENT
BEGIN:VEVENT
DTSTART;TZID=Europe/Berlin:20250926T000000
DTEND;TZID=Europe/Berlin:20250926T000000
DTSTAMP:20260420T220502
CREATED:20250202T110128Z
LAST-MODIFIED:20250202T110128Z
UID:7682-1758844800-1758844800@www.bjv-ffb.de
SUMMARY:Abschlussfeier Hundekurs
DESCRIPTION:
URL:https://www.bjv-ffb.de/kalender/abschlussfeier-hundekurs/
END:VEVENT
END:VCALENDAR