BEGIN:VCALENDAR
VERSION:2.0
PRODID:-//Bayerischer Jagdverband - ECPv6.15.13//NONSGML v1.0//EN
CALSCALE:GREGORIAN
METHOD:PUBLISH
X-ORIGINAL-URL:https://www.bjv-ffb.de
X-WR-CALDESC:Veranstaltungen für Bayerischer Jagdverband
REFRESH-INTERVAL;VALUE=DURATION:PT1H
X-Robots-Tag:noindex
X-PUBLISHED-TTL:PT1H
BEGIN:VTIMEZONE
TZID:Europe/Berlin
BEGIN:DAYLIGHT
TZOFFSETFROM:+0100
TZOFFSETTO:+0200
TZNAME:CEST
DTSTART:20240331T010000
END:DAYLIGHT
BEGIN:STANDARD
TZOFFSETFROM:+0200
TZOFFSETTO:+0100
TZNAME:CET
DTSTART:20241027T010000
END:STANDARD
BEGIN:DAYLIGHT
TZOFFSETFROM:+0100
TZOFFSETTO:+0200
TZNAME:CEST
DTSTART:20250330T010000
END:DAYLIGHT
BEGIN:STANDARD
TZOFFSETFROM:+0200
TZOFFSETTO:+0100
TZNAME:CET
DTSTART:20251026T010000
END:STANDARD
BEGIN:DAYLIGHT
TZOFFSETFROM:+0100
TZOFFSETTO:+0200
TZNAME:CEST
DTSTART:20260329T010000
END:DAYLIGHT
BEGIN:STANDARD
TZOFFSETFROM:+0200
TZOFFSETTO:+0100
TZNAME:CET
DTSTART:20261025T010000
END:STANDARD
END:VTIMEZONE
BEGIN:VEVENT
DTSTART;TZID=Europe/Berlin:20251115T180000
DTEND;TZID=Europe/Berlin:20251115T220000
DTSTAMP:20260420T191909
CREATED:20250629T154759Z
LAST-MODIFIED:20250629T154759Z
UID:7896-1763229600-1763244000@www.bjv-ffb.de
SUMMARY:Hubertusmesse 2025 in Türkenfeld\, Pfarrkirche Mariä Himmelfahrt um 18 Uhr
DESCRIPTION:15. November 2025\, 18 Uhr: Hubertusmesse in Türkenfeld\, kath. Pfarrkirche Mariä Himmelfahrt\, Bahnhofstraße 1  – mit anschließendem geselligen Beisammensein im Gasthof Hartl „Zum Unterwirt“\, Duringstr. 5\, 82299 Türkenfeld.
URL:https://www.bjv-ffb.de/kalender/hubertusmesse-2025-in-tuerkenfeld-pfarrkirche-mariae-himmelfahrt-um-18-uhr/
END:VEVENT
END:VCALENDAR