BEGIN:VCALENDAR
VERSION:2.0
PRODID:-//Bayerischer Jagdverband - ECPv6.15.13//NONSGML v1.0//EN
CALSCALE:GREGORIAN
METHOD:PUBLISH
X-ORIGINAL-URL:https://www.bjv-ffb.de
X-WR-CALDESC:Veranstaltungen für Bayerischer Jagdverband
REFRESH-INTERVAL;VALUE=DURATION:PT1H
X-Robots-Tag:noindex
X-PUBLISHED-TTL:PT1H
BEGIN:VTIMEZONE
TZID:Europe/Berlin
BEGIN:DAYLIGHT
TZOFFSETFROM:+0100
TZOFFSETTO:+0200
TZNAME:CEST
DTSTART:20250330T010000
END:DAYLIGHT
BEGIN:STANDARD
TZOFFSETFROM:+0200
TZOFFSETTO:+0100
TZNAME:CET
DTSTART:20251026T010000
END:STANDARD
BEGIN:DAYLIGHT
TZOFFSETFROM:+0100
TZOFFSETTO:+0200
TZNAME:CEST
DTSTART:20260329T010000
END:DAYLIGHT
BEGIN:STANDARD
TZOFFSETFROM:+0200
TZOFFSETTO:+0100
TZNAME:CET
DTSTART:20261025T010000
END:STANDARD
BEGIN:DAYLIGHT
TZOFFSETFROM:+0100
TZOFFSETTO:+0200
TZNAME:CEST
DTSTART:20270328T010000
END:DAYLIGHT
BEGIN:STANDARD
TZOFFSETFROM:+0200
TZOFFSETTO:+0100
TZNAME:CET
DTSTART:20271031T010000
END:STANDARD
END:VTIMEZONE
BEGIN:VEVENT
DTSTART;TZID=Europe/Berlin:20260110T083000
DTEND;TZID=Europe/Berlin:20260110T170000
DTSTAMP:20260420T164408
CREATED:20250925T202546Z
LAST-MODIFIED:20250925T202618Z
UID:8091-1768033800-1768064400@www.bjv-ffb.de
SUMMARY:Biber Entnahmekurs der BJV-Kreisgruppe Starnberg in Gut Rieden im Rahmen der Veranstaltungsreihe "Grüner Abend"
DESCRIPTION:Hier bekommt ihr alle Infos und könnt euch anmelden: Veranstaltungen Kreisgruppe Starnberg
URL:https://www.bjv-ffb.de/kalender/biber-entnahmekurs-der-bjv-kreisgruppe-starnberg-in-gut-rieden-im-rahmen-der-veranstaltungsreihe-gruener-abend/
END:VEVENT
END:VCALENDAR