BEGIN:VCALENDAR
VERSION:2.0
PRODID:-//Bayerischer Jagdverband - ECPv6.15.13//NONSGML v1.0//EN
CALSCALE:GREGORIAN
METHOD:PUBLISH
X-ORIGINAL-URL:https://www.bjv-ffb.de
X-WR-CALDESC:Veranstaltungen für Bayerischer Jagdverband
REFRESH-INTERVAL;VALUE=DURATION:PT1H
X-Robots-Tag:noindex
X-PUBLISHED-TTL:PT1H
BEGIN:VTIMEZONE
TZID:Europe/Berlin
BEGIN:DAYLIGHT
TZOFFSETFROM:+0100
TZOFFSETTO:+0200
TZNAME:CEST
DTSTART:20250330T010000
END:DAYLIGHT
BEGIN:STANDARD
TZOFFSETFROM:+0200
TZOFFSETTO:+0100
TZNAME:CET
DTSTART:20251026T010000
END:STANDARD
BEGIN:DAYLIGHT
TZOFFSETFROM:+0100
TZOFFSETTO:+0200
TZNAME:CEST
DTSTART:20260329T010000
END:DAYLIGHT
BEGIN:STANDARD
TZOFFSETFROM:+0200
TZOFFSETTO:+0100
TZNAME:CET
DTSTART:20261025T010000
END:STANDARD
BEGIN:DAYLIGHT
TZOFFSETFROM:+0100
TZOFFSETTO:+0200
TZNAME:CEST
DTSTART:20270328T010000
END:DAYLIGHT
BEGIN:STANDARD
TZOFFSETFROM:+0200
TZOFFSETTO:+0100
TZNAME:CET
DTSTART:20271031T010000
END:STANDARD
END:VTIMEZONE
BEGIN:VEVENT
DTSTART;TZID=Europe/Berlin:20260305T080000
DTEND;TZID=Europe/Berlin:20260305T170000
DTSTAMP:20260420T135904
CREATED:20260123T103830Z
LAST-MODIFIED:20260222T165147Z
UID:8190-1772697600-1772730000@www.bjv-ffb.de
SUMMARY:Anmeldung Jagdgebrauchshundekurs 2026
DESCRIPTION:Hier die Einladung mit allen Informationen herunterladen
URL:https://www.bjv-ffb.de/kalender/anmeldung-jagdgebrauchshundekurs-2026/
END:VEVENT
BEGIN:VEVENT
DTSTART;TZID=Europe/Berlin:20260305T080000
DTEND;TZID=Europe/Berlin:20260305T170000
DTSTAMP:20260420T135904
CREATED:20260221T162308Z
LAST-MODIFIED:20260221T162308Z
UID:8298-1772697600-1772730000@www.bjv-ffb.de
SUMMARY:5. März 2026\, Hegering I Versammlung
DESCRIPTION:Infos über den Hegeringleiter
URL:https://www.bjv-ffb.de/kalender/5-maerz-2026-hegering-i-versammlung/
END:VEVENT
BEGIN:VEVENT
DTSTART;TZID=Europe/Berlin:20260310T180000
DTEND;TZID=Europe/Berlin:20260310T200000
DTSTAMP:20260420T135904
CREATED:20260124T160251Z
LAST-MODIFIED:20260124T160448Z
UID:8205-1773165600-1773172800@www.bjv-ffb.de
SUMMARY:Jagdhundekurs Ausbildungstag Schöngeising
DESCRIPTION:Fuß\, Sitz\, Leinenführigkeit\, Ablegen
URL:https://www.bjv-ffb.de/kalender/jagdhundekurs-ausbildungstag/
END:VEVENT
BEGIN:VEVENT
DTSTART;TZID=Europe/Berlin:20260311T080000
DTEND;TZID=Europe/Berlin:20260311T170000
DTSTAMP:20260420T135904
CREATED:20260221T162402Z
LAST-MODIFIED:20260221T162402Z
UID:8300-1773216000-1773248400@www.bjv-ffb.de
SUMMARY:11. März 2026\, Hegering III Versammlung
DESCRIPTION:Infos über den Hegeringleiter
URL:https://www.bjv-ffb.de/kalender/11-maerz-2026-hegering-iii-versammlung/
END:VEVENT
BEGIN:VEVENT
DTSTART;TZID=Europe/Berlin:20260314T080000
DTEND;TZID=Europe/Berlin:20260314T170000
DTSTAMP:20260420T135904
CREATED:20250925T201832Z
LAST-MODIFIED:20250925T201923Z
UID:8089-1773475200-1773507600@www.bjv-ffb.de
SUMMARY:Frühjahrsschießen der Kreisgruppe Fürstenfeldbruck
DESCRIPTION:Veranstaltung im Jagdparcour Oberbayern. Infos folgen
URL:https://www.bjv-ffb.de/kalender/fruehjahrsschiessen-der-kreisgruppe-fuerstenfeldbruck/
END:VEVENT
BEGIN:VEVENT
DTSTART;TZID=Europe/Berlin:20260317T180000
DTEND;TZID=Europe/Berlin:20260317T200000
DTSTAMP:20260420T135904
CREATED:20260124T160328Z
LAST-MODIFIED:20260124T160556Z
UID:8208-1773770400-1773777600@www.bjv-ffb.de
SUMMARY:Jagdhundekurs Ausbildungstag Schöngeising
DESCRIPTION:Down/Halt mit Umkreisen
URL:https://www.bjv-ffb.de/kalender/jagdhundekurs-ausbildungstag-2/
END:VEVENT
BEGIN:VEVENT
DTSTART;TZID=Europe/Berlin:20260324T180000
DTEND;TZID=Europe/Berlin:20260324T200000
DTSTAMP:20260420T135904
CREATED:20260124T160700Z
LAST-MODIFIED:20260124T160700Z
UID:8214-1774375200-1774382400@www.bjv-ffb.de
SUMMARY:Jagdhundekurs Ausbildungstag Schöngeising
DESCRIPTION:Down/Halt mit Umkreisen und Klatschen
URL:https://www.bjv-ffb.de/kalender/jagdhundekurs-ausbildungstag-schoengeising/
END:VEVENT
BEGIN:VEVENT
DTSTART;TZID=Europe/Berlin:20260331T180000
DTEND;TZID=Europe/Berlin:20260331T200000
DTSTAMP:20260420T135904
CREATED:20260124T160755Z
LAST-MODIFIED:20260124T160804Z
UID:8216-1774980000-1774987200@www.bjv-ffb.de
SUMMARY:Jagdhundekurs Ausbildungstag Schöngeising
DESCRIPTION:Apportierbock dulden im Fang
URL:https://www.bjv-ffb.de/kalender/jagdhundekurs-ausbildungstag-schoengeising-2/
END:VEVENT
END:VCALENDAR