BEGIN:VCALENDAR
VERSION:2.0
PRODID:-//Bayerischer Jagdverband - ECPv6.15.13//NONSGML v1.0//EN
CALSCALE:GREGORIAN
METHOD:PUBLISH
X-ORIGINAL-URL:https://www.bjv-ffb.de
X-WR-CALDESC:Veranstaltungen für Bayerischer Jagdverband
REFRESH-INTERVAL;VALUE=DURATION:PT1H
X-Robots-Tag:noindex
X-PUBLISHED-TTL:PT1H
BEGIN:VTIMEZONE
TZID:Europe/Berlin
BEGIN:DAYLIGHT
TZOFFSETFROM:+0100
TZOFFSETTO:+0200
TZNAME:CEST
DTSTART:20250330T010000
END:DAYLIGHT
BEGIN:STANDARD
TZOFFSETFROM:+0200
TZOFFSETTO:+0100
TZNAME:CET
DTSTART:20251026T010000
END:STANDARD
BEGIN:DAYLIGHT
TZOFFSETFROM:+0100
TZOFFSETTO:+0200
TZNAME:CEST
DTSTART:20260329T010000
END:DAYLIGHT
BEGIN:STANDARD
TZOFFSETFROM:+0200
TZOFFSETTO:+0100
TZNAME:CET
DTSTART:20261025T010000
END:STANDARD
BEGIN:DAYLIGHT
TZOFFSETFROM:+0100
TZOFFSETTO:+0200
TZNAME:CEST
DTSTART:20270328T010000
END:DAYLIGHT
BEGIN:STANDARD
TZOFFSETFROM:+0200
TZOFFSETTO:+0100
TZNAME:CET
DTSTART:20271031T010000
END:STANDARD
END:VTIMEZONE
BEGIN:VEVENT
DTSTART;TZID=Europe/Berlin:20260504T200000
DTEND;TZID=Europe/Berlin:20260504T213000
DTSTAMP:20260420T135904
CREATED:20260410T120648Z
LAST-MODIFIED:20260410T120648Z
UID:8366-1777924800-1777930200@www.bjv-ffb.de
SUMMARY:Jagdhorn-Serenade Hubertus Marterl Alling\,
DESCRIPTION:4. Mai\, 20 Uhr\nToni Weiher\, Russengraben/Starzelbach\, 82239 Alling
URL:https://www.bjv-ffb.de/kalender/jagdhorn-serenade-hubertus-marterl-alling/
END:VEVENT
BEGIN:VEVENT
DTSTART;TZID=Europe/Berlin:20260505T190000
DTEND;TZID=Europe/Berlin:20260505T210000
DTSTAMP:20260420T135904
CREATED:20260124T161611Z
LAST-MODIFIED:20260124T161611Z
UID:8226-1778007600-1778014800@www.bjv-ffb.de
SUMMARY:Jagdhundekurs Ausbildungstag Schöngeising
DESCRIPTION:Apport vom Boden
URL:https://www.bjv-ffb.de/kalender/jagdhundekurs-ausbildungstag-schoengeising-7/
END:VEVENT
BEGIN:VEVENT
DTSTART;TZID=Europe/Berlin:20260509T090000
DTEND;TZID=Europe/Berlin:20260509T120000
DTSTAMP:20260420T135904
CREATED:20260124T161759Z
LAST-MODIFIED:20260124T161847Z
UID:8228-1778317200-1778328000@www.bjv-ffb.de
SUMMARY:Jagdhundekurs Ausbildungstag Althegnenberg
DESCRIPTION:Schweißarbeit
URL:https://www.bjv-ffb.de/kalender/jagdhundekurs-ausbildungstag-althegnenberg/
END:VEVENT
BEGIN:VEVENT
DTSTART;TZID=Europe/Berlin:20260512T190000
DTEND;TZID=Europe/Berlin:20260512T210000
DTSTAMP:20260420T135904
CREATED:20260124T161940Z
LAST-MODIFIED:20260401T144111Z
UID:8230-1778612400-1778619600@www.bjv-ffb.de
SUMMARY:Jagdhundekurs Ausbildungstag Schöngeising
DESCRIPTION:Apport auf Entfernung
URL:https://www.bjv-ffb.de/kalender/jagdhundekurs-ausbildungstag-schoengeising-8/
END:VEVENT
BEGIN:VEVENT
DTSTART;TZID=Europe/Berlin:20260519T190000
DTEND;TZID=Europe/Berlin:20260519T210000
DTSTAMP:20260420T135904
CREATED:20260124T162046Z
LAST-MODIFIED:20260124T162046Z
UID:8232-1779217200-1779224400@www.bjv-ffb.de
SUMMARY:Jagdhundekurs Ausbildungstag Schöngeising
DESCRIPTION:Apport auf Entfernung
URL:https://www.bjv-ffb.de/kalender/jagdhundekurs-ausbildungstag-schoengeising-9/
END:VEVENT
BEGIN:VEVENT
DTSTART;TZID=Europe/Berlin:20260523T090000
DTEND;TZID=Europe/Berlin:20260523T120000
DTSTAMP:20260420T135904
CREATED:20260124T162145Z
LAST-MODIFIED:20260124T162145Z
UID:8234-1779526800-1779537600@www.bjv-ffb.de
SUMMARY:Jagdhundekurs Ausbildungstag Althegnenberg
DESCRIPTION:Schweißarbeit
URL:https://www.bjv-ffb.de/kalender/jagdhundekurs-ausbildungstag-althegnenberg-2/
END:VEVENT
BEGIN:VEVENT
DTSTART;TZID=Europe/Berlin:20260526T190000
DTEND;TZID=Europe/Berlin:20260526T210000
DTSTAMP:20260420T135904
CREATED:20260124T162234Z
LAST-MODIFIED:20260124T162234Z
UID:8236-1779822000-1779829200@www.bjv-ffb.de
SUMMARY:Jagdhundekurs Ausbildungstag Schöngeising
DESCRIPTION:Apport auf Entfernung\, Hindernis
URL:https://www.bjv-ffb.de/kalender/jagdhundekurs-ausbildungstag-schoengeising-10/
END:VEVENT
END:VCALENDAR