BEGIN:VCALENDAR
VERSION:2.0
PRODID:-//Bayerischer Jagdverband - ECPv6.15.13//NONSGML v1.0//EN
CALSCALE:GREGORIAN
METHOD:PUBLISH
X-ORIGINAL-URL:https://www.bjv-ffb.de
X-WR-CALDESC:Veranstaltungen für Bayerischer Jagdverband
REFRESH-INTERVAL;VALUE=DURATION:PT1H
X-Robots-Tag:noindex
X-PUBLISHED-TTL:PT1H
BEGIN:VTIMEZONE
TZID:Europe/Berlin
BEGIN:DAYLIGHT
TZOFFSETFROM:+0100
TZOFFSETTO:+0200
TZNAME:CEST
DTSTART:20250330T010000
END:DAYLIGHT
BEGIN:STANDARD
TZOFFSETFROM:+0200
TZOFFSETTO:+0100
TZNAME:CET
DTSTART:20251026T010000
END:STANDARD
BEGIN:DAYLIGHT
TZOFFSETFROM:+0100
TZOFFSETTO:+0200
TZNAME:CEST
DTSTART:20260329T010000
END:DAYLIGHT
BEGIN:STANDARD
TZOFFSETFROM:+0200
TZOFFSETTO:+0100
TZNAME:CET
DTSTART:20261025T010000
END:STANDARD
BEGIN:DAYLIGHT
TZOFFSETFROM:+0100
TZOFFSETTO:+0200
TZNAME:CEST
DTSTART:20270328T010000
END:DAYLIGHT
BEGIN:STANDARD
TZOFFSETFROM:+0200
TZOFFSETTO:+0100
TZNAME:CET
DTSTART:20271031T010000
END:STANDARD
END:VTIMEZONE
BEGIN:VEVENT
DTSTART;TZID=Europe/Berlin:20260704T090000
DTEND;TZID=Europe/Berlin:20260704T120000
DTSTAMP:20260420T162257
CREATED:20260125T173510Z
LAST-MODIFIED:20260125T173510Z
UID:8253-1783155600-1783166400@www.bjv-ffb.de
SUMMARY:Jagdhundekurs Ausbildungstag Althegnenberg
DESCRIPTION:Schweißarbeit
URL:https://www.bjv-ffb.de/kalender/jagdhundekurs-ausbildungstag-althegnenberg-5/
END:VEVENT
BEGIN:VEVENT
DTSTART;TZID=Europe/Berlin:20260706T200000
DTEND;TZID=Europe/Berlin:20260706T213000
DTSTAMP:20260420T162257
CREATED:20260410T120919Z
LAST-MODIFIED:20260410T120919Z
UID:8371-1783368000-1783373400@www.bjv-ffb.de
SUMMARY:Jagdhorn-Serenade\,Fürstenfeldbruck – Burgstelle Engelsberg
DESCRIPTION:6. Juli\, 20 Uhr\nhinter dem Kloster Fürstenfeldbruck oder vor dem Engelsburger Hofladen
URL:https://www.bjv-ffb.de/kalender/jagdhorn-serenadefuerstenfeldbruck-burgstelle-engelsberg/
END:VEVENT
BEGIN:VEVENT
DTSTART;TZID=Europe/Berlin:20260707T190000
DTEND;TZID=Europe/Berlin:20260707T210000
DTSTAMP:20260420T162257
CREATED:20260125T173626Z
LAST-MODIFIED:20260125T173626Z
UID:8256-1783450800-1783458000@www.bjv-ffb.de
SUMMARY:Jagdhundekurs Ausbildungstag Schöngeising
DESCRIPTION:Federwildschleppe
URL:https://www.bjv-ffb.de/kalender/jagdhundekurs-ausbildungstag-schoengeising-16/
END:VEVENT
BEGIN:VEVENT
DTSTART;TZID=Europe/Berlin:20260711T070000
DTEND;TZID=Europe/Berlin:20260711T110000
DTSTAMP:20260420T162257
CREATED:20260125T173739Z
LAST-MODIFIED:20260125T173739Z
UID:8258-1783753200-1783767600@www.bjv-ffb.de
SUMMARY:Jagdhundekurs Ausbildungstag Weiher Rammersthofen
DESCRIPTION:Wasserarbeit
URL:https://www.bjv-ffb.de/kalender/jagdhundekurs-ausbildungstag-weiher-rammersthofen/
END:VEVENT
BEGIN:VEVENT
DTSTART;TZID=Europe/Berlin:20260711T080000
DTEND;TZID=Europe/Berlin:20260711T170000
DTSTAMP:20260420T162257
CREATED:20260221T163140Z
LAST-MODIFIED:20260222T102845Z
UID:8310-1783756800-1783789200@www.bjv-ffb.de
SUMMARY:11. Juli 2026 Schulung Biberentnahme – Info folgt
DESCRIPTION:
URL:https://www.bjv-ffb.de/kalender/11-juli-2026-schulung-bieberentnahme-info-folgt/
END:VEVENT
BEGIN:VEVENT
DTSTART;TZID=Europe/Berlin:20260714T190000
DTEND;TZID=Europe/Berlin:20260714T210000
DTSTAMP:20260420T162257
CREATED:20260125T173837Z
LAST-MODIFIED:20260125T173837Z
UID:8260-1784055600-1784062800@www.bjv-ffb.de
SUMMARY:Jagdhundekurs Ausbildungstag Schöngeising
DESCRIPTION:Haarwildschleppe
URL:https://www.bjv-ffb.de/kalender/jagdhundekurs-ausbildungstag-schoengeising-17/
END:VEVENT
BEGIN:VEVENT
DTSTART;TZID=Europe/Berlin:20260721T190000
DTEND;TZID=Europe/Berlin:20260721T210000
DTSTAMP:20260420T162257
CREATED:20260125T173942Z
LAST-MODIFIED:20260125T173942Z
UID:8262-1784660400-1784667600@www.bjv-ffb.de
SUMMARY:Jagdhundekurs Ausbildungstag Schöngeising
DESCRIPTION:Federwildschleppe
URL:https://www.bjv-ffb.de/kalender/jagdhundekurs-ausbildungstag-schoengeising-18/
END:VEVENT
BEGIN:VEVENT
DTSTART;TZID=Europe/Berlin:20260725T070000
DTEND;TZID=Europe/Berlin:20260725T120000
DTSTAMP:20260420T162257
CREATED:20260125T174037Z
LAST-MODIFIED:20260125T174037Z
UID:8264-1784962800-1784980800@www.bjv-ffb.de
SUMMARY:Jagdhundekurs Ausbildungstag Weiher Rammertshofen
DESCRIPTION:Wasserarbeit
URL:https://www.bjv-ffb.de/kalender/jagdhundekurs-ausbildungstag-weiher-rammertshofen/
END:VEVENT
BEGIN:VEVENT
DTSTART;TZID=Europe/Berlin:20260728T190000
DTEND;TZID=Europe/Berlin:20260728T210000
DTSTAMP:20260420T162257
CREATED:20260125T174125Z
LAST-MODIFIED:20260125T174125Z
UID:8266-1785265200-1785272400@www.bjv-ffb.de
SUMMARY:Jagdhundekurs Ausbildungstag Schöngeising
DESCRIPTION:Haarwildschleppe
URL:https://www.bjv-ffb.de/kalender/jagdhundekurs-ausbildungstag-schoengeising-19/
END:VEVENT
END:VCALENDAR