BEGIN:VCALENDAR
VERSION:2.0
PRODID:-//Bayerischer Jagdverband - ECPv6.15.13//NONSGML v1.0//EN
CALSCALE:GREGORIAN
METHOD:PUBLISH
X-ORIGINAL-URL:https://www.bjv-ffb.de
X-WR-CALDESC:Veranstaltungen für Bayerischer Jagdverband
REFRESH-INTERVAL;VALUE=DURATION:PT1H
X-Robots-Tag:noindex
X-PUBLISHED-TTL:PT1H
BEGIN:VTIMEZONE
TZID:Europe/Berlin
BEGIN:DAYLIGHT
TZOFFSETFROM:+0100
TZOFFSETTO:+0200
TZNAME:CEST
DTSTART:20250330T010000
END:DAYLIGHT
BEGIN:STANDARD
TZOFFSETFROM:+0200
TZOFFSETTO:+0100
TZNAME:CET
DTSTART:20251026T010000
END:STANDARD
BEGIN:DAYLIGHT
TZOFFSETFROM:+0100
TZOFFSETTO:+0200
TZNAME:CEST
DTSTART:20260329T010000
END:DAYLIGHT
BEGIN:STANDARD
TZOFFSETFROM:+0200
TZOFFSETTO:+0100
TZNAME:CET
DTSTART:20261025T010000
END:STANDARD
BEGIN:DAYLIGHT
TZOFFSETFROM:+0100
TZOFFSETTO:+0200
TZNAME:CEST
DTSTART:20270328T010000
END:DAYLIGHT
BEGIN:STANDARD
TZOFFSETFROM:+0200
TZOFFSETTO:+0100
TZNAME:CET
DTSTART:20271031T010000
END:STANDARD
END:VTIMEZONE
BEGIN:VEVENT
DTSTART;TZID=Europe/Berlin:20260803T200000
DTEND;TZID=Europe/Berlin:20260803T213000
DTSTAMP:20260420T174040
CREATED:20260410T121054Z
LAST-MODIFIED:20260410T121054Z
UID:8373-1785787200-1785792600@www.bjv-ffb.de
SUMMARY:Jagdhorn-Serenade\, Schöngeising\, Zellhofkapelle
DESCRIPTION:3. August\, 20 Uhr\nZellhofstraße 3\, 82296 Schöngeising
URL:https://www.bjv-ffb.de/kalender/jagdhorn-serenade-schoengeising-zellhofkapelle/
END:VEVENT
BEGIN:VEVENT
DTSTART;TZID=Europe/Berlin:20260804T183000
DTEND;TZID=Europe/Berlin:20260804T210000
DTSTAMP:20260420T174040
CREATED:20260125T174214Z
LAST-MODIFIED:20260125T174214Z
UID:8268-1785868200-1785877200@www.bjv-ffb.de
SUMMARY:Jagdhundekurs Ausbildungstag Schöngeising
DESCRIPTION:Federwildschleppe
URL:https://www.bjv-ffb.de/kalender/jagdhundekurs-ausbildungstag-schoengeising-20/
END:VEVENT
BEGIN:VEVENT
DTSTART;TZID=Europe/Berlin:20260808T090000
DTEND;TZID=Europe/Berlin:20260808T120000
DTSTAMP:20260420T174040
CREATED:20260125T174313Z
LAST-MODIFIED:20260125T174313Z
UID:8270-1786179600-1786190400@www.bjv-ffb.de
SUMMARY:Jagdhundekurs Ausbildungstag Althegnenberg
DESCRIPTION:Schweißarbeit
URL:https://www.bjv-ffb.de/kalender/jagdhundekurs-ausbildungstag-althegnenberg-6/
END:VEVENT
BEGIN:VEVENT
DTSTART;TZID=Europe/Berlin:20260811T183000
DTEND;TZID=Europe/Berlin:20260811T210000
DTSTAMP:20260420T174040
CREATED:20260125T174408Z
LAST-MODIFIED:20260125T174408Z
UID:8272-1786473000-1786482000@www.bjv-ffb.de
SUMMARY:Jagdhundekurs Ausbildungstag Schöngeising
DESCRIPTION:Haarwildschleppe
URL:https://www.bjv-ffb.de/kalender/jagdhundekurs-ausbildungstag-schoengeising-21/
END:VEVENT
BEGIN:VEVENT
DTSTART;TZID=Europe/Berlin:20260815T070000
DTEND;TZID=Europe/Berlin:20260815T120000
DTSTAMP:20260420T174040
CREATED:20260125T174459Z
LAST-MODIFIED:20260125T174459Z
UID:8274-1786777200-1786795200@www.bjv-ffb.de
SUMMARY:Jagdhundekurs Ausbildungstag Weiher Rammertshofen
DESCRIPTION:Wasserarbeit
URL:https://www.bjv-ffb.de/kalender/jagdhundekurs-ausbildungstag-weiher-rammertshofen-2/
END:VEVENT
BEGIN:VEVENT
DTSTART;TZID=Europe/Berlin:20260818T183000
DTEND;TZID=Europe/Berlin:20260818T210000
DTSTAMP:20260420T174041
CREATED:20260125T174554Z
LAST-MODIFIED:20260125T174554Z
UID:8276-1787077800-1787086800@www.bjv-ffb.de
SUMMARY:Jagdhundekurs Ausbildungstag Schöngeising
DESCRIPTION:Federwildschleppe
URL:https://www.bjv-ffb.de/kalender/jagdhundekurs-ausbildungstag-schoengeising-22/
END:VEVENT
BEGIN:VEVENT
DTSTART;TZID=Europe/Berlin:20260825T183000
DTEND;TZID=Europe/Berlin:20260825T210000
DTSTAMP:20260420T174041
CREATED:20260125T174641Z
LAST-MODIFIED:20260125T174641Z
UID:8278-1787682600-1787691600@www.bjv-ffb.de
SUMMARY:Jagdhundekurs Ausbildungstag Schöngeising
DESCRIPTION:Haarwildschleppe
URL:https://www.bjv-ffb.de/kalender/jagdhundekurs-ausbildungstag-schoengeising-23/
END:VEVENT
BEGIN:VEVENT
DTSTART;TZID=Europe/Berlin:20260829T070000
DTEND;TZID=Europe/Berlin:20260829T120000
DTSTAMP:20260420T174041
CREATED:20260125T174732Z
LAST-MODIFIED:20260125T174732Z
UID:8280-1787986800-1788004800@www.bjv-ffb.de
SUMMARY:Jagdhundekurs Ausbildungstag Weiher Rammertshofen
DESCRIPTION:Wasserarbeit
URL:https://www.bjv-ffb.de/kalender/jagdhundekurs-ausbildungstag-weiher-rammertshofen-3/
END:VEVENT
END:VCALENDAR