BEGIN:VCALENDAR
VERSION:2.0
PRODID:-//Bayerischer Jagdverband - ECPv6.15.13//NONSGML v1.0//EN
CALSCALE:GREGORIAN
METHOD:PUBLISH
X-WR-CALNAME:Bayerischer Jagdverband
X-ORIGINAL-URL:https://www.bjv-ffb.de
X-WR-CALDESC:Veranstaltungen für Bayerischer Jagdverband
REFRESH-INTERVAL;VALUE=DURATION:PT1H
X-Robots-Tag:noindex
X-PUBLISHED-TTL:PT1H
BEGIN:VTIMEZONE
TZID:Europe/Berlin
BEGIN:DAYLIGHT
TZOFFSETFROM:+0100
TZOFFSETTO:+0200
TZNAME:CEST
DTSTART:20250330T010000
END:DAYLIGHT
BEGIN:STANDARD
TZOFFSETFROM:+0200
TZOFFSETTO:+0100
TZNAME:CET
DTSTART:20251026T010000
END:STANDARD
BEGIN:DAYLIGHT
TZOFFSETFROM:+0100
TZOFFSETTO:+0200
TZNAME:CEST
DTSTART:20260329T010000
END:DAYLIGHT
BEGIN:STANDARD
TZOFFSETFROM:+0200
TZOFFSETTO:+0100
TZNAME:CET
DTSTART:20261025T010000
END:STANDARD
BEGIN:DAYLIGHT
TZOFFSETFROM:+0100
TZOFFSETTO:+0200
TZNAME:CEST
DTSTART:20270328T010000
END:DAYLIGHT
BEGIN:STANDARD
TZOFFSETFROM:+0200
TZOFFSETTO:+0100
TZNAME:CET
DTSTART:20271031T010000
END:STANDARD
END:VTIMEZONE
BEGIN:VEVENT
DTSTART;TZID=Europe/Berlin:20260901T183000
DTEND;TZID=Europe/Berlin:20260901T210000
DTSTAMP:20260420T185954
CREATED:20260125T174826Z
LAST-MODIFIED:20260125T174826Z
UID:8282-1788287400-1788296400@www.bjv-ffb.de
SUMMARY:Jagdhundekurs Ausbildungstag Schöngeising
DESCRIPTION:Federwildschleppe
URL:https://www.bjv-ffb.de/kalender/jagdhundekurs-ausbildungstag-schoengeising-24/
END:VEVENT
BEGIN:VEVENT
DTSTART;TZID=Europe/Berlin:20260905T090000
DTEND;TZID=Europe/Berlin:20260905T160000
DTSTAMP:20260420T185954
CREATED:20260123T104131Z
LAST-MODIFIED:20260123T104131Z
UID:8194-1788598800-1788624000@www.bjv-ffb.de
SUMMARY:Brauchbarkeitsprüfung Jagdgebrauchshundekurs 2026
DESCRIPTION:Weitere Info erfolgt bei der Anmeldung zum Kurs
URL:https://www.bjv-ffb.de/kalender/brauchbarkeitspruefung-jagdgebrauchshundekurs-2026/
END:VEVENT
BEGIN:VEVENT
DTSTART;TZID=Europe/Berlin:20260907T200000
DTEND;TZID=Europe/Berlin:20260907T213000
DTSTAMP:20260420T185954
CREATED:20260410T121219Z
LAST-MODIFIED:20260410T121219Z
UID:8375-1788811200-1788816600@www.bjv-ffb.de
SUMMARY:Jagdhorn-Serenade\, Mariengrotte bei Kottgeisering
DESCRIPTION:7. September\, 20 Uhr
URL:https://www.bjv-ffb.de/kalender/jagdhorn-serenade-mariengrotte-bei-kottgeisering/
END:VEVENT
BEGIN:VEVENT
DTSTART;TZID=Europe/Berlin:20260912T090000
DTEND;TZID=Europe/Berlin:20260912T160000
DTSTAMP:20260420T185954
CREATED:20260123T104301Z
LAST-MODIFIED:20260123T104331Z
UID:8196-1789203600-1789228800@www.bjv-ffb.de
SUMMARY:Brauchbarkeitsprüfung Jagdgebrauchshundekurs 2026
DESCRIPTION:Weitere Info erfolgt bei der Anmeldung zum Kurs
URL:https://www.bjv-ffb.de/kalender/brauchbarkeitspruefung-jagdgebrauchshundekurs-2026-2/
END:VEVENT
END:VCALENDAR