BEGIN:VCALENDAR
VERSION:2.0
PRODID:-//Bayerischer Jagdverband - ECPv6.15.13//NONSGML v1.0//EN
CALSCALE:GREGORIAN
METHOD:PUBLISH
X-ORIGINAL-URL:https://www.bjv-ffb.de
X-WR-CALDESC:Veranstaltungen für Bayerischer Jagdverband
REFRESH-INTERVAL;VALUE=DURATION:PT1H
X-Robots-Tag:noindex
X-PUBLISHED-TTL:PT1H
BEGIN:VTIMEZONE
TZID:Europe/Berlin
BEGIN:DAYLIGHT
TZOFFSETFROM:+0100
TZOFFSETTO:+0200
TZNAME:CEST
DTSTART:20250330T010000
END:DAYLIGHT
BEGIN:STANDARD
TZOFFSETFROM:+0200
TZOFFSETTO:+0100
TZNAME:CET
DTSTART:20251026T010000
END:STANDARD
BEGIN:DAYLIGHT
TZOFFSETFROM:+0100
TZOFFSETTO:+0200
TZNAME:CEST
DTSTART:20260329T010000
END:DAYLIGHT
BEGIN:STANDARD
TZOFFSETFROM:+0200
TZOFFSETTO:+0100
TZNAME:CET
DTSTART:20261025T010000
END:STANDARD
BEGIN:DAYLIGHT
TZOFFSETFROM:+0100
TZOFFSETTO:+0200
TZNAME:CEST
DTSTART:20270328T010000
END:DAYLIGHT
BEGIN:STANDARD
TZOFFSETFROM:+0200
TZOFFSETTO:+0100
TZNAME:CET
DTSTART:20271031T010000
END:STANDARD
END:VTIMEZONE
BEGIN:VEVENT
DTSTART;TZID=Europe/Berlin:20261106T180000
DTEND;TZID=Europe/Berlin:20261106T190000
DTSTAMP:20260420T213925
CREATED:20260221T163516Z
LAST-MODIFIED:20260410T122603Z
UID:8316-1793988000-1793991600@www.bjv-ffb.de
SUMMARY:6. November 2026\, Hubertusmesse\, St. Magdalena\, Fürstenfeldbruck
DESCRIPTION:6. November\, 18 Uhr: Hubertusmesse der Jagdhornbläser der Kreisgruppe\, Pfarrkirche St. Magdalena\, Kirchstraße 13\, 82256 Fürstenfeldbruck
URL:https://www.bjv-ffb.de/kalender/6-november-2026-hubertusmesse-info-folgt/
END:VEVENT
END:VCALENDAR